BEGIN:VCALENDAR
PRODID:NingEventWidget-v1
VERSION:2.0
METHOD:PUBLISH
BEGIN:VTIMEZONE
TZID:Pacific/Midway
X-LIC-LOCATION:Pacific/Midway
BEGIN:STANDARD
TZOFFSETFROM:-1100
TZOFFSETTO:-1100
TZNAME:SST
DTSTART:19700101T000000
END:STANDARD
END:VTIMEZONE
BEGIN:VEVENT
UID:5072275:Event:1119204
DTSTAMP:20260420T112627Z
SUMMARY:5th Annual Meeting of the Mopars Cruise In - Alexander City, A
 l
DESCRIPTION:5th Annual Meeting of the Mopars Cruise In at the Wellborn
  Mitsclecar Museum, 124 Broad Street.\n\nFor more information visit ht
 tps://www.southeastwheelsevents.com/events/5th-annual-meeting-of-the-m
 opars-cruise-in-alexander-city-al
DTSTART;TZID=Pacific/Midway:20190302T100000
DTEND;TZID=Pacific/Midway:20190302T150000
CATEGORIES:car, show, cruise, in
LOCATION:Wellborn Mitsclecar Museum,
WEBSITE:https://www.google.co.in/maps/place/124+Broad+St,+Alexander+Ci
 ty,+AL+35010,+USA/@32.9440615,-85.9579099,17z/data=!3m1!4b1!4m5!3m4!1s
 0x888c0b6b633637f9:0xdbb31ccc07676791!8m2!3d32.9440615!4d-85.9557212
URL:https://www.google.co.in/maps/place/124+Broad+St,+Alexander+City,+
 AL+35010,+USA/@32.9440615,-85.9579099,17z/data=!3m1!4b1!4m5!3m4!1s0x88
 8c0b6b633637f9:0xdbb31ccc07676791!8m2!3d32.9440615!4d-85.9557212
CONTACT:(205) 542-1240
ORGANIZER:Eric Perrine
ATTACH;FMTTYPE="image/jpeg":http://storage.ning.com/topology/rest/1.0/
 file/get/967808057?profile=original
ATTENDEE;ROLE=REQ-PARTICIPANT;PARTSTAT=ACCEPTED;RSVP=TRUE;CN="Anthony 
 Hopkins":https://www.southeastwheelsevents.com/profile/AnthonyHopkins
END:VEVENT
END:VCALENDAR
