BEGIN:VCALENDAR
PRODID:NingEventWidget-v1
VERSION:2.0
METHOD:PUBLISH
BEGIN:VTIMEZONE
TZID:Pacific/Midway
X-LIC-LOCATION:Pacific/Midway
BEGIN:STANDARD
TZOFFSETFROM:-1100
TZOFFSETTO:-1100
TZNAME:SST
DTSTART:19700101T000000
END:STANDARD
END:VTIMEZONE
BEGIN:VEVENT
UID:5072275:Event:858526
DTSTAMP:20260423T114652Z
SUMMARY:5th Annual Mossy Creek Cruzers Car Show
DESCRIPTION:We Support Local Special Olympics\nCar Show Registration $
 15 Advance/$20 Day of Show\nTrophies, Special Awards, Dash Plaques, Do
 or Prizes, 50/50 Tickets, Silent & Live Auctions, Craft Vendors, Food 
 Vendors, Music\nAntiques, Classics, Street Rods, Sports Cars, Trucks &
  Motorcycles are welcome\nFor more information visit our website at ww
 w.mossycreekcruzers.org\n\nFor more information visit https://www.sout
 heastwheelsevents.com/events/5th-annual-mossy-creek-cruzers-car-show-1
DTSTART;TZID=Pacific/Midway:20150711T090000
DTEND;TZID=Pacific/Midway:20150711T150000
CATEGORIES:car, show
LOCATION:Jefferson Middle School
WEBSITE:
URL:
CONTACT:865-363-5891
ORGANIZER;CN="Pat Dukes":https://www.southeastwheelsevents.com/profile
 /PatDukes
ATTACH;FMTTYPE="image/jpeg":http://storage.ning.com/topology/rest/1.0/
 file/get/967679243?profile=original
ATTENDEE;ROLE=REQ-PARTICIPANT;PARTSTAT=ACCEPTED;RSVP=TRUE;CN="Pat Duke
 s":https://www.southeastwheelsevents.com/profile/PatDukes
END:VEVENT
END:VCALENDAR
