BEGIN:VCALENDAR
PRODID:NingEventWidget-v1
VERSION:2.0
METHOD:PUBLISH
BEGIN:VTIMEZONE
TZID:Pacific/Midway
X-LIC-LOCATION:Pacific/Midway
BEGIN:STANDARD
TZOFFSETFROM:-1100
TZOFFSETTO:-1100
TZNAME:SST
DTSTART:19700101T000000
END:STANDARD
END:VTIMEZONE
BEGIN:VEVENT
UID:5072275:Event:1043023
DTSTAMP:20260420T045145Z
SUMMARY:5th ANNUAL MOUNTAIN OUTLAW 50
DESCRIPTION:\n\nFor more information visit https://www.southeastwheels
 events.com/events/5th-annual-mountain-outlaw-50
DTSTART;TZID=Pacific/Midway:20170513T000000
DTEND;TZID=Pacific/Midway:20170513T235900
CATEGORIES:race
LOCATION:SMOKY MOUNTAIN SPEEDWAY
WEBSITE:http://www.smokymountainspeedway.com/
URL:http://www.smokymountainspeedway.com/
CONTACT:865.856.8989
ORGANIZER:
ATTACH;FMTTYPE="image/jpeg":http://storage.ning.com/topology/rest/1.0/
 file/get/967743711?profile=original
ATTENDEE;ROLE=REQ-PARTICIPANT;PARTSTAT=ACCEPTED;RSVP=TRUE;CN="Christop
 her Gosney":https://www.southeastwheelsevents.com/profile/ChristopherG
 osney
END:VEVENT
END:VCALENDAR
