BEGIN:VCALENDAR
PRODID:NingEventWidget-v1
VERSION:2.0
METHOD:PUBLISH
BEGIN:VTIMEZONE
TZID:Pacific/Midway
X-LIC-LOCATION:Pacific/Midway
BEGIN:STANDARD
TZOFFSETFROM:-1100
TZOFFSETTO:-1100
TZNAME:SST
DTSTART:19700101T000000
END:STANDARD
END:VTIMEZONE
BEGIN:VEVENT
UID:5072275:Event:1099311
DTSTAMP:20260420T061544Z
SUMMARY:5th Annual Rod Run To Westside - Talladega, Al
DESCRIPTION:5th Annual Rod Run To Westside, 67700 Hwy 77.\n\nFor more 
 information visit https://www.southeastwheelsevents.com/events/5th-ann
 ual-rod-run-to-westside-talladega-al
DTSTART;TZID=Pacific/Midway:20180922T090000
DTEND;TZID=Pacific/Midway:20180922T130000
CATEGORIES:car, show, cruise, in
LOCATION:Talladega, Al
WEBSITE:https://www.google.com/maps/place/67700+AL-77,+Talladega,+AL+3
 5160,+USA/@33.4803412,-86.1239696,3a,75y,266.64h,78.33t/data=!3m8!1e1!
 3m6!1shkMAW3X3bYW1WnWSHb-1bQ!2e0!3e11!6s%2F%2Fgeo1.ggpht.com%2Fmaps%2F
 photothumb%2Ffd%2Fv1%3Fbpb%3DChEKD21hcHNfc3YudGFjdGlsZRIgChIJwZQp3G_bi
 4gRjqyMFeQwQ_4qCg0AAAAAFQAAAAAaBQhkEMsB%26gl%3DIN!7i13312!8i6656!4m5!3
 m4!1s0x888bdb6fdc2994c1:0xfe4330e4158cac8e!8m2!3d33.4802629!4d-86.1238
 266
URL:https://www.google.com/maps/place/67700+AL-77,+Talladega,+AL+35160
 ,+USA/@33.4803412,-86.1239696,3a,75y,266.64h,78.33t/data=!3m8!1e1!3m6!
 1shkMAW3X3bYW1WnWSHb-1bQ!2e0!3e11!6s%2F%2Fgeo1.ggpht.com%2Fmaps%2Fphot
 othumb%2Ffd%2Fv1%3Fbpb%3DChEKD21hcHNfc3YudGFjdGlsZRIgChIJwZQp3G_bi4gRj
 qyMFeQwQ_4qCg0AAAAAFQAAAAAaBQhkEMsB%26gl%3DIN!7i13312!8i6656!4m5!3m4!1
 s0x888bdb6fdc2994c1:0xfe4330e4158cac8e!8m2!3d33.4802629!4d-86.1238266
CONTACT:(256) 223-0167, (256) 493-1390
ORGANIZER:Doug, Mike
ATTACH;FMTTYPE="image/jpeg":http://storage.ning.com/topology/rest/1.0/
 file/get/967791909?profile=original
ATTENDEE;ROLE=REQ-PARTICIPANT;PARTSTAT=ACCEPTED;RSVP=TRUE;CN="Anthony 
 Hopkins":https://www.southeastwheelsevents.com/profile/AnthonyHopkins
END:VEVENT
END:VCALENDAR
