BEGIN:VCALENDAR
PRODID:NingEventWidget-v1
VERSION:2.0
METHOD:PUBLISH
BEGIN:VTIMEZONE
TZID:Pacific/Midway
X-LIC-LOCATION:Pacific/Midway
BEGIN:STANDARD
TZOFFSETFROM:-1100
TZOFFSETTO:-1100
TZNAME:SST
DTSTART:19700101T000000
END:STANDARD
END:VTIMEZONE
BEGIN:VEVENT
UID:5072275:Event:925802
DTSTAMP:20260419T054740Z
SUMMARY:Annual \"Saluting Our Veterans\" Open Car and Bike Show, Ashev
 ille, NC
DESCRIPTION:The Charles George VA Medical Center and Asheville Chevrol
 et present the 6th Annual \"Saluting Our Veterans\" Open Car and Bike 
 Show, 10AM-2PM at the Charles George VA Medical Center,1100 Tunnel Roa
 d in Asheville, NC. Our show provides much needed funding for Recreati
 onal Therapy programs for our patients. Registration is 10.00 per vehi
 cle. There will be awards for the \"Top Ten\" as chosen by registered 
 participants, \"Best Represented Club\", and \"Sponsor's Choice\". Doo
 r prizes, raffles, 50/50 drawing. Food, music and fun for all! For mor
 e info call Gary Oliver (828) 335-9134 \"Like\" us on FaceBook: www.fa
 cebook.com/salutingourvetscarshow\n\nFor more information visit https:
 //www.southeastwheelsevents.com/events/5th-annual-saluting-our-veteran
 s-open-car-and-bike-show-asheville
DTSTART;TZID=Pacific/Midway:20161105T100000
DTEND;TZID=Pacific/Midway:20161105T140000
CATEGORIES:fundraiser, for, patient, recreational, therapy, programs
LOCATION:Charles George VA Medical Center
WEBSITE:https://www.google.com/maps/place/1100+Tunnel+Rd,+Asheville,+N
 C+28805/@35.5882019,-82.4840299,17z/data=!3m1!4b1!4m2!3m1!1s0x8859f3fa
 0e68d81b:0xb1cd15dc31132978
URL:https://www.google.com/maps/place/1100+Tunnel+Rd,+Asheville,+NC+28
 805/@35.5882019,-82.4840299,17z/data=!3m1!4b1!4m2!3m1!1s0x8859f3fa0e68
 d81b:0xb1cd15dc31132978
CONTACT:828 335-9134
ORGANIZER:Gary Oliver
ATTACH;FMTTYPE="image/jpeg":http://storage.ning.com/topology/rest/1.0/
 file/get/967695105?profile=original
ATTENDEE;ROLE=REQ-PARTICIPANT;PARTSTAT=ACCEPTED;RSVP=TRUE;CN="William 
 Oliver":https://www.southeastwheelsevents.com/profile/WilliamOliver
END:VEVENT
END:VCALENDAR
