BEGIN:VCALENDAR
PRODID:NingEventWidget-v1
VERSION:2.0
METHOD:PUBLISH
BEGIN:VTIMEZONE
TZID:Pacific/Midway
X-LIC-LOCATION:Pacific/Midway
BEGIN:STANDARD
TZOFFSETFROM:-1100
TZOFFSETTO:-1100
TZNAME:SST
DTSTART:19700101T000000
END:STANDARD
END:VTIMEZONE
BEGIN:VEVENT
UID:5072275:Event:1274863
DTSTAMP:20260419T050207Z
SUMMARY:5th Annual Trickum Midcle School Car Show Lilburn, GA
DESCRIPTION:Join us for our 5th Annual Car Show, we will be raising fu
 nds for Gwinnett Relay for Life\n\nFor more information visit https://
 www.southeastwheelsevents.com/events/5th-annual-trickum-midcle-school-
 car-show-lilburn-ga
DTSTART;TZID=Pacific/Midway:20260418T100000
DTEND;TZID=Pacific/Midway:20260418T140000
CATEGORIES:car, show
LOCATION:Trickum Middle School
WEBSITE:
URL:
CONTACT:
ORGANIZER:
ATTACH;FMTTYPE="image/jpeg":https://storage.ning.com/topology/rest/1.0
 /file/get/31133489276?profile=original
ATTENDEE;ROLE=REQ-PARTICIPANT;PARTSTAT=ACCEPTED;RSVP=TRUE;CN="Bobbie M
 enneg":https://www.southeastwheelsevents.com/profile/BobbieMenneg
END:VEVENT
END:VCALENDAR
