BEGIN:VCALENDAR
PRODID:NingEventWidget-v1
VERSION:2.0
METHOD:PUBLISH
BEGIN:VTIMEZONE
TZID:Pacific/Midway
X-LIC-LOCATION:Pacific/Midway
BEGIN:STANDARD
TZOFFSETFROM:-1100
TZOFFSETTO:-1100
TZNAME:SST
DTSTART:19700101T000000
END:STANDARD
END:VTIMEZONE
BEGIN:VEVENT
UID:5072275:Event:1230135
DTSTAMP:20260419T011320Z
SUMMARY:5th Annual Veterans Day CruzIn, Alpharetta, GA
DESCRIPTION:Come join us as we honor our Veterans on Sun, Nov 7, 11-4.
  Open to all types of vehicles. No charge for participants or spectato
 rs. Lots of food, music and good times. Raffle.\n\nFor more informatio
 n visit https://www.southeastwheelsevents.com/events/5th-annual-vetera
 ns-day-cruzin-alpharetta-ga
DTSTART;TZID=Pacific/Midway:20211107T110000
DTEND;TZID=Pacific/Midway:20211107T160000
CATEGORIES:cruise, in
LOCATION:American Legion Post 201
WEBSITE:http://ALPost201.com
URL:http://ALPost201.com
CONTACT:6784629023
ORGANIZER;CN="American Legion Post201":https://www.southeastwheelseven
 ts.com/profile/AmericanLegionPost201
ATTACH;FMTTYPE="image/jpeg":https://storage.ning.com/topology/rest/1.0
 /file/get/9727934881?profile=original
ATTENDEE;ROLE=REQ-PARTICIPANT;PARTSTAT=ACCEPTED;RSVP=TRUE;CN="American
  Legion Post201":https://www.southeastwheelsevents.com/profile/America
 nLegionPost201
END:VEVENT
END:VCALENDAR
