BEGIN:VCALENDAR
PRODID:NingEventWidget-v1
VERSION:2.0
METHOD:PUBLISH
BEGIN:VTIMEZONE
TZID:Pacific/Midway
X-LIC-LOCATION:Pacific/Midway
BEGIN:STANDARD
TZOFFSETFROM:-1100
TZOFFSETTO:-1100
TZNAME:SST
DTSTART:19700101T000000
END:STANDARD
END:VTIMEZONE
BEGIN:VEVENT
UID:5072275:Event:332757
DTSTAMP:20260424T155536Z
SUMMARY:5th Saturday Night Cruise-In -Oneonta, AL
DESCRIPTION:\n \n\n \n\n\n\nEvent Dates: July 30, 2011 - July 30, 2
 011Location: Oneonta, Alabama\n\n \n\nFrom 5 p.m. till 8 p.m. Music,
  50/50 drawing, food, and lots of fun!\n\n\n\n\n\n\n\n\n\n\n\n\nFor mo
 re information visit https://www.southeastwheelsevents.com/events/5th-
 saturday-night-cruise-in-o
DTSTART;TZID=Pacific/Midway:20110730T170000
DTEND;TZID=Pacific/Midway:20110730T200000
CATEGORIES:cruise-in
LOCATION:In Town
WEBSITE:
URL:
CONTACT:
ORGANIZER:
ATTACH;FMTTYPE="image/jpeg":
ATTENDEE;ROLE=REQ-PARTICIPANT;PARTSTAT=ACCEPTED;RSVP=TRUE;CN="Michael 
 Thies":https://www.southeastwheelsevents.com/profile/MichaelThies
END:VEVENT
END:VCALENDAR
