BEGIN:VCALENDAR
PRODID:NingEventWidget-v1
VERSION:2.0
METHOD:PUBLISH
BEGIN:VTIMEZONE
TZID:Pacific/Midway
X-LIC-LOCATION:Pacific/Midway
BEGIN:STANDARD
TZOFFSETFROM:-1100
TZOFFSETTO:-1100
TZNAME:SST
DTSTART:19700101T000000
END:STANDARD
END:VTIMEZONE
BEGIN:VEVENT
UID:5072275:Event:483822
DTSTAMP:20260421T065859Z
SUMMARY:5th Saturday Night Cruise-In -Oneonta, AL
DESCRIPTION:Saturday, March 31, 2012....5th Saturday Night Cruise-In D
 owntown Oneonta, AL from 5:00 p.m. till 8:00 p.m. Music, 50/50 Drawing
 , Shopping, Food.Â Â Â Â Â Â Â Â Â Â Â Â Â Â Â Â Â Â Â Â Â Â Â Â Â Â Â
  Â Â Â Â Â Â Â Â Â Â Â Â  More Info Danny Bailey 205-237-5774 or David
  Copeland 205-706-8978\n\nFor more information visit https://www.south
 eastwheelsevents.com/events/5th-saturday-night-cruise-in-oneonta-al
DTSTART;TZID=Pacific/Midway:20120331T050000
DTEND;TZID=Pacific/Midway:20120331T200000
CATEGORIES:cruise-in
LOCATION:Downtown
WEBSITE:http://crossroads-cruisers.com/
URL:http://crossroads-cruisers.com/
CONTACT:205-237-5774 or 205-706-8978
ORGANIZER:Crossroads Cruisers
ATTACH;FMTTYPE="image/jpeg":http://storage.ning.com/topology/rest/1.0/
 file/get/967607166?profile=original
ATTENDEE;ROLE=REQ-PARTICIPANT;PARTSTAT=ACCEPTED;RSVP=TRUE;CN="randy si
 mpson":https://www.southeastwheelsevents.com/profile/randysimpson
ATTENDEE;ROLE=REQ-PARTICIPANT;PARTSTAT=ACCEPTED;RSVP=TRUE;CN="Michael 
 Thies":https://www.southeastwheelsevents.com/profile/MichaelThies
END:VEVENT
END:VCALENDAR
