BEGIN:VCALENDAR
PRODID:NingEventWidget-v1
VERSION:2.0
METHOD:PUBLISH
BEGIN:VTIMEZONE
TZID:Pacific/Midway
X-LIC-LOCATION:Pacific/Midway
BEGIN:STANDARD
TZOFFSETFROM:-1100
TZOFFSETTO:-1100
TZNAME:SST
DTSTART:19700101T000000
END:STANDARD
END:VTIMEZONE
BEGIN:VEVENT
UID:5072275:Event:619046
DTSTAMP:20260420T033721Z
SUMMARY:65 Roses Car, Truck & Bike Show Benefit, Clarksville, TN
DESCRIPTION:Bring your car, truck or bike to this 100% charity event t
 o benefit the Cystic Fibrosis Foundation. 1st, 2nd & 3rd place trophie
 s in all three classes. First 100 entries will receive a commemorative
  dash plaque and a goody bag. Spectators are FREE. Participants - $15 
 donation to the CFF pre-registered and $20 at the gate. PRE-REGISTER t
 o 931-980-8837 or clarksvillecff-1@yahoo.com\n\nFor more information v
 isit https://www.southeastwheelsevents.com/events/65-roses-car-truck-b
 ike-show-benefit-clarksville-tn
DTSTART;TZID=Pacific/Midway:20140621T080000
DTEND;TZID=Pacific/Midway:20140621T150000
CATEGORIES:fundraiser
LOCATION:Clarksville Speedway & Fairgrounds
WEBSITE:http://www.clarksvillespeedway.com
URL:http://www.clarksvillespeedway.com
CONTACT:931-980-8837
ORGANIZER:Debbie McConnell
ATTACH;FMTTYPE="image/jpeg":http://storage.ning.com/topology/rest/1.0/
 file/get/967631590?profile=original
ATTENDEE;ROLE=REQ-PARTICIPANT;PARTSTAT=ACCEPTED;RSVP=TRUE;CN="William 
 Scogin":https://www.southeastwheelsevents.com/profile/WilliamScogin
END:VEVENT
END:VCALENDAR
