BEGIN:VCALENDAR
PRODID:NingEventWidget-v1
VERSION:2.0
METHOD:PUBLISH
BEGIN:VTIMEZONE
TZID:Pacific/Midway
X-LIC-LOCATION:Pacific/Midway
BEGIN:STANDARD
TZOFFSETFROM:-1100
TZOFFSETTO:-1100
TZNAME:SST
DTSTART:19700101T000000
END:STANDARD
END:VTIMEZONE
BEGIN:VEVENT
UID:5072275:Event:337520
DTSTAMP:20260423T101344Z
SUMMARY:6th Annual Christmas-4-Kidz Cruise-in / Car Show -Columbus, GA
DESCRIPTION:\n\nFor more information visit https://www.southeastwheels
 events.com/events/6th-annual-christmas-4-kidz
DTSTART;TZID=Pacific/Midway:20111210T080000
DTEND;TZID=Pacific/Midway:20111210T143000
CATEGORIES:charity, event, christmas, for, kids
LOCATION:Cooks Hot Dogs
WEBSITE:
URL:
CONTACT:(706) 566-5390
ORGANIZER:Waine Powell, Club President
ATTACH;FMTTYPE="image/jpeg":http://storage.ning.com/topology/rest/1.0/
 file/get/967600703?profile=original
ATTENDEE;ROLE=REQ-PARTICIPANT;PARTSTAT=ACCEPTED;RSVP=TRUE;CN=Larry:htt
 ps://www.southeastwheelsevents.com/profile/Razzi
END:VEVENT
END:VCALENDAR
