BEGIN:VCALENDAR
PRODID:NingEventWidget-v1
VERSION:2.0
METHOD:PUBLISH
BEGIN:VTIMEZONE
TZID:Pacific/Midway
X-LIC-LOCATION:Pacific/Midway
BEGIN:STANDARD
TZOFFSETFROM:-1100
TZOFFSETTO:-1100
TZNAME:SST
DTSTART:19700101T000000
END:STANDARD
END:VTIMEZONE
BEGIN:VEVENT
UID:5072275:Event:1099398
DTSTAMP:20260420T094328Z
SUMMARY:6th Annual Cruising for Christ Car Show - Springville, Al
DESCRIPTION:6th Annual Cruising for Christ Car Show and  Swap Meet at
  ONE eighty Church, 5770 US Hwy 11.\n\nFor more information visit http
 s://www.southeastwheelsevents.com/events/6th-annual-cruising-for-chris
 t-car-show-springville-al
DTSTART;TZID=Pacific/Midway:20180922T080000
DTEND;TZID=Pacific/Midway:20180922T130000
CATEGORIES:car, show, cruise, in
LOCATION:ONEeighty Church,
WEBSITE:https://www.google.com/maps/place/ONEeighty+church/@33.7672135
 ,-86.4800624,17z/data=!3m1!4b1!4m5!3m4!1s0x88899d95149c853d:0xb258ffa2
 5eaf943a!8m2!3d33.7672091!4d-86.4778737
URL:https://www.google.com/maps/place/ONEeighty+church/@33.7672135,-86
 .4800624,17z/data=!3m1!4b1!4m5!3m4!1s0x88899d95149c853d:0xb258ffa25eaf
 943a!8m2!3d33.7672091!4d-86.4778737
CONTACT:(205) 915-1400, (205) 296-8037 (RD 9/29)
ORGANIZER:Mark Brandenburg or Fuzzy Turner
ATTACH;FMTTYPE="image/jpeg":http://storage.ning.com/topology/rest/1.0/
 file/get/967793100?profile=original
ATTENDEE;ROLE=REQ-PARTICIPANT;PARTSTAT=ACCEPTED;RSVP=TRUE;CN="Anthony 
 Hopkins":https://www.southeastwheelsevents.com/profile/AnthonyHopkins
END:VEVENT
END:VCALENDAR
