BEGIN:VCALENDAR
PRODID:NingEventWidget-v1
VERSION:2.0
METHOD:PUBLISH
BEGIN:VTIMEZONE
TZID:Pacific/Midway
X-LIC-LOCATION:Pacific/Midway
BEGIN:STANDARD
TZOFFSETFROM:-1100
TZOFFSETTO:-1100
TZNAME:SST
DTSTART:19700101T000000
END:STANDARD
END:VTIMEZONE
BEGIN:VEVENT
UID:5072275:Event:833075
DTSTAMP:20260423T183130Z
SUMMARY:Annual Hellbilly Hootenanny -Asheville, NC
DESCRIPTION:Who:  BOOTLEGGERS CAR CLUB, PABST BLUE RIBBON & A BROKEN 
 SPOKE CUSTOM MOTORCYCLE REPAIR  ....proudly present....  What:  The A
 nnual Hellbilly Hootenanny!  When:  (10 a.m. SHOW CARS & BIKES ONLY!!
 !) SPECTATORS 12p.m. - 10p.m.  This event will be a full day of enter
 tainment including  - A full 8hrs of Live Music -PRE-1973 (NO EXCEPTI
 ONS!) Hotrods, Kustom Kars & (ANY YEAR/MAKE CUSTOM, CHOP, OR BOBBER) M
 otorcycle show  -\"BOOTLEGGERS C.C.\" Secret Selection Pin-up Contest
   -\"HOT STUFF TATTOO\" Tattoo Contest -\"BEER CITY BEARD & MUSTACHE 
 CLUB\" Beard/Mustache/Goatee Competition benefiting \"Pin-Up's for Pit
 -Bulls\" a K-9 awareness group against dog breed discrimination -Pin-U
 p Hair & Make-up will also be available for appointments and walk-up's
  all day at the \"Drive-In Magazine\" booth. THEY DO AN AWESOME JOB!!!
  -professional face & body painting -Lowbrow Art  -Pinstriping -Car/B
 ike parts/paint & kustom clothing vendors -Car/Bike swap meet area  -
 Asheville's finest & very unique local gourmet food trucks serving up 
 unique eats and treats all day.  Stadium or Camping Chairs are suggest
 ed to bring for creature comfort!  NO un-leashed pets OR WHINERS allow
 ed! PERIOD. NO EXCEPTIONS MADE.  At 12:00 noon, 7 beyond talented & ve
 ry well known bands from all over the nation will TURN IT UP on into t
 he night including; Buncombe Turnpike - NC, The Koffin Kats - MI, Go D
 evils-NC, Three Bad Jacks - CA, Motorbilly - NC, Small Town Lights - N
 C & the famous Hillbilly-Hellcats from Colorado. The music festival wi
 ll be professionally hosted by, none other than, K9 Kohl from Nashvill
 e, TN who will be serving up the sultry sounds and announcing all day 
 long & in between sets.  Don't forget the ice cold beer specials, wate
 r & soda's as well, all day long with partial proceeds going to suppor
 t BROTHER WOLF, a local Buncombe County Non-Profit! HELP SUPPORT THE C
 AUSE BY HAVING A COLD ONE, OR THREE! They will also have animals there
  that need forever, loving homes!!  $20 adult admission, kids under 13
  FREE!!! $20 car/bike registration, includes driver & 1 passenger  COM
 E JOIN US THIS YEAR FOR ONE HELL OF A GREAT TIME!  Contact Derek or St
 acey about ticket pre-sales or reserving vendor locations as soon as p
 ossible. -$60 FOR 10‘X10’ vending space. -$120 for 10‘x20’ ven
 ding space.  -$180 for 10‘x30’ spaces.  Get them before they’re
  gone!  Derek: 828-319-7106 dbchopshop@gmail.com (Event Chairman) Stac
 ey: 828-280-0433 smcclure1123@gmail.com (Public Relations)\n\nFor more
  information visit https://www.southeastwheelsevents.com/events/6th-an
 nual-hellbilly-hootenanny
DTSTART;TZID=Pacific/Midway:20171007T100000
DTEND;TZID=Pacific/Midway:20171007T220000
CATEGORIES:pre, "73'", car, "show/bike", show, and, music, festival
LOCATION:New Mountain
WEBSITE:
URL:
CONTACT:(828)319-7106 or (828)280-0433
ORGANIZER:Derek Butts or Stacey Harrington-Butts/Bootleggers Car Club
ATTACH;FMTTYPE="image/jpeg":http://storage.ning.com/topology/rest/1.0/
 file/get/967672119?profile=original
ATTENDEE;ROLE=REQ-PARTICIPANT;PARTSTAT=ACCEPTED;RSVP=TRUE;CN="Chuck Aa
 ron":https://www.southeastwheelsevents.com/profile/ChuckAaron886
ATTENDEE;ROLE=REQ-PARTICIPANT;PARTSTAT=ACCEPTED;RSVP=TRUE;CN="Stacey M
 cClure":https://www.southeastwheelsevents.com/profile/StaceyMcClure
END:VEVENT
END:VCALENDAR
