BEGIN:VCALENDAR
PRODID:NingEventWidget-v1
VERSION:2.0
METHOD:PUBLISH
BEGIN:VTIMEZONE
TZID:Pacific/Midway
X-LIC-LOCATION:Pacific/Midway
BEGIN:STANDARD
TZOFFSETFROM:-1100
TZOFFSETTO:-1100
TZNAME:SST
DTSTART:19700101T000000
END:STANDARD
END:VTIMEZONE
BEGIN:VEVENT
UID:5072275:Event:938655
DTSTAMP:20260422T215020Z
SUMMARY:6th Annual Mountain Classic Car Show
DESCRIPTION:The show is open to the public. All cars and trucks are el
 igible for entry, with trophies going to the top 10 vehicles and a spe
 cial trophy and prize for the Veterans’ Choice Award winner.\nAmeric
 an Legion Post 526 will sponsor a 50-50 raffle.\n\nRegistration is $25
  per vehicle.\n \n\nFor more information visit https://www.southeastw
 heelsevents.com/events/6th-annual-mountain-classic-car-show
DTSTART;TZID=Pacific/Midway:20151017T100000
DTEND;TZID=Pacific/Midway:20151017T140000
CATEGORIES:fundraiser
LOCATION:Veterans' Restoration Quarters
WEBSITE:http://www.abccm.org
URL:http://www.abccm.org
CONTACT:828-259-5326
ORGANIZER;CN="Cheryl Wilson":https://www.southeastwheelsevents.com/pro
 file/CherylWilson
ATTACH;FMTTYPE="image/jpeg":
ATTENDEE;ROLE=REQ-PARTICIPANT;PARTSTAT=ACCEPTED;RSVP=TRUE;CN="Cheryl W
 ilson":https://www.southeastwheelsevents.com/profile/CherylWilson
END:VEVENT
END:VCALENDAR
