BEGIN:VCALENDAR
PRODID:NingEventWidget-v1
VERSION:2.0
METHOD:PUBLISH
BEGIN:VTIMEZONE
TZID:Pacific/Midway
X-LIC-LOCATION:Pacific/Midway
BEGIN:STANDARD
TZOFFSETFROM:-1100
TZOFFSETTO:-1100
TZNAME:SST
DTSTART:19700101T000000
END:STANDARD
END:VTIMEZONE
BEGIN:VEVENT
UID:5072275:Event:1083044
DTSTAMP:20260423T150922Z
SUMMARY:New Providence Baptist Church CAr Show -Forsyth, GA
DESCRIPTION:Annual new providence baptist church car/truck/motorcycle 
 show\n\nFor more information visit https://www.southeastwheelsevents.c
 om/events/6th-annual-new-providence-baptist-church-car-truck-motorcycl
 e
DTSTART;TZID=Pacific/Midway:20220507T090000
DTEND;TZID=Pacific/Midway:20220507T150000
CATEGORIES:"car/truck/motorcycle", show
LOCATION:Monroe County Rec Department
WEBSITE:
URL:
CONTACT:Ed 478-447-5153
ORGANIZER:
ATTACH;FMTTYPE="image/jpeg":http://storage.ning.com/topology/rest/1.0/
 file/get/967768863?profile=original
ATTENDEE;ROLE=REQ-PARTICIPANT;PARTSTAT=ACCEPTED;RSVP=TRUE;CN="Anthony 
 Hopkins":https://www.southeastwheelsevents.com/profile/AnthonyHopkins
END:VEVENT
END:VCALENDAR
