BEGIN:VCALENDAR
PRODID:NingEventWidget-v1
VERSION:2.0
METHOD:PUBLISH
BEGIN:VTIMEZONE
TZID:Pacific/Midway
X-LIC-LOCATION:Pacific/Midway
BEGIN:STANDARD
TZOFFSETFROM:-1100
TZOFFSETTO:-1100
TZNAME:SST
DTSTART:19700101T000000
END:STANDARD
END:VTIMEZONE
BEGIN:VEVENT
UID:5072275:Event:1174895
DTSTAMP:20260422T075616Z
SUMMARY:ANNUAL OPHELIAS CLASSIC CAR SHOW -Brunswick, GA
DESCRIPTION:\r\n\r\n\r\n\r\n\r\nClassic cars from all over southeast G
 eorgia will be on display vying for the championship in Hofwyl-Broadfi
 eldâ€™s annual car show. Come and view the cars, vote for your favorit
 e and then tour a historic rice plantation. Presented by Friends of Ho
 fwyl and Classic Coastal Cruisers automobile club. \r\nIf you would li
 ke to enter your car there is a registration fee. Call for more inform
 ation. \r\n\r\n\r\n\r\n\r\n\r\n\r\n\r\nAdmission:Â $5-$8 Event Phone:Â
  912-264-7333\n\nFor more information visit https://www.southeastwheel
 sevents.com/events/6th-annual-ophelias-classic-car-show
DTSTART;TZID=Pacific/Midway:20221015T090000
DTEND;TZID=Pacific/Midway:20221015T140000
CATEGORIES:fundraiser, car, show
LOCATION:Howfyl-Broadfield Plantation
WEBSITE:
URL:
CONTACT:Liz DeMattao 912-996-6490
ORGANIZER:Friends of Howfyl-Broadfield Plantation AND Classic Coastal 
 Cruisers
ATTACH;FMTTYPE="image/jpeg":https://storage.ning.com/topology/rest/1.0
 /file/get/3412525574?profile=original
ATTENDEE;ROLE=REQ-PARTICIPANT;PARTSTAT=TENTATIVE;RSVP=TRUE;CN="Jeffrey
  Rutherford":https://www.southeastwheelsevents.com/profile/JeffreyRuth
 erford866
END:VEVENT
END:VCALENDAR
