BEGIN:VCALENDAR
PRODID:NingEventWidget-v1
VERSION:2.0
METHOD:PUBLISH
BEGIN:VTIMEZONE
TZID:Pacific/Midway
X-LIC-LOCATION:Pacific/Midway
BEGIN:STANDARD
TZOFFSETFROM:-1100
TZOFFSETTO:-1100
TZNAME:SST
DTSTART:19700101T000000
END:STANDARD
END:VTIMEZONE
BEGIN:VEVENT
UID:5072275:Event:1241697
DTSTAMP:20260422T155317Z
SUMMARY:6th Annual Rides on the Market -W Columbia, SC
DESCRIPTION:\r\n$20/Vehicle To Register $5/Spectator 100% of Proceeds 
 to Benefit: Palmetto Place Children & Youth Services Show 10am-3pm Liv
 e Music- 11am-1:30pm Top 10 & Specialty Awards! Individual Best of Awa
 rds for: Paint, Patina, Interior, Engine, C10, Jeep, Muscle, Modern, I
 mport Food Trucks Door Prizes 50/50 Raffle Swag Bags Friday Night Crui
 se-Out @ 7:30pm For more Information Contact: Jason- 803-397-6852/803-
 722-3487 uvtsouth@gmail.com Insta: @uvtsouth South Carolina State Farm
 ers Market 3483 Charleston Hwy, West Columbia, SC 29172\n\nFor more in
 formation visit https://www.southeastwheelsevents.com/events/6th-annua
 l-rides-on-the-market
DTSTART;TZID=Pacific/Midway:20230325T100000
DTEND;TZID=Pacific/Midway:20230325T150000
CATEGORIES:charity, car, show
LOCATION:S Carolina State Farmers Market
WEBSITE:
URL:
CONTACT:
ORGANIZER;CN="Jeffrey Rutherford":https://www.southeastwheelsevents.co
 m/profile/JeffreyRutherford866
ATTACH;FMTTYPE="image/jpeg":https://storage.ning.com/topology/rest/1.0
 /file/get/10921900478?profile=original
ATTENDEE;ROLE=REQ-PARTICIPANT;PARTSTAT=TENTATIVE;RSVP=TRUE;CN="Jeffrey
  Rutherford":https://www.southeastwheelsevents.com/profile/JeffreyRuth
 erford866
END:VEVENT
END:VCALENDAR
