BEGIN:VCALENDAR
PRODID:NingEventWidget-v1
VERSION:2.0
METHOD:PUBLISH
BEGIN:VTIMEZONE
TZID:Pacific/Midway
X-LIC-LOCATION:Pacific/Midway
BEGIN:STANDARD
TZOFFSETFROM:-1100
TZOFFSETTO:-1100
TZNAME:SST
DTSTART:19700101T000000
END:STANDARD
END:VTIMEZONE
BEGIN:VEVENT
UID:5072275:Event:1225559
DTSTAMP:20260423T101347Z
SUMMARY:6TH ANNUAL RON ASHBY NORTH COBB AMERICAN LEGION CAR SHOW, ACWO
 RTH, GA
DESCRIPTION:\r\n\n\nFor more information visit https://www.southeastwh
 eelsevents.com/events/6th-annual-ron-ashby-north-cobb
DTSTART;TZID=Pacific/Midway:20210612T100000
DTEND;TZID=Pacific/Midway:20210612T160000
CATEGORIES:american, legion, charities
LOCATION:RON ASHBY AMERICAN LEGION POST
WEBSITE:
URL:
CONTACT:
ORGANIZER:RON ASHBY AMERICAN LEGION POST 304
ATTACH;FMTTYPE="image/jpeg":https://storage.ning.com/topology/rest/1.0
 /file/get/9083107257?profile=original
ATTENDEE;ROLE=REQ-PARTICIPANT;PARTSTAT=TENTATIVE;RSVP=TRUE;CN="Jeffrey
  Rutherford":https://www.southeastwheelsevents.com/profile/JeffreyRuth
 erford866
END:VEVENT
END:VCALENDAR
