BEGIN:VCALENDAR
PRODID:NingEventWidget-v1
VERSION:2.0
METHOD:PUBLISH
BEGIN:VTIMEZONE
TZID:Pacific/Midway
X-LIC-LOCATION:Pacific/Midway
BEGIN:STANDARD
TZOFFSETFROM:-1100
TZOFFSETTO:-1100
TZNAME:SST
DTSTART:19700101T000000
END:STANDARD
END:VTIMEZONE
BEGIN:VEVENT
UID:5072275:Event:328989
DTSTAMP:20260421T020317Z
SUMMARY:Annual Peach State Chevy Show -McDonough, GA
DESCRIPTION:\n\n2015 Peach State Chevy Show\n8th Annual Peach State Ch
 evy Show\nSaturday, October 17, 2015\n\nSummit Racing Equipment, McDon
 ough, GA\n\n\n\n*Presented by Peach State Chevelles*Open to all Chevr
 olet vehicles*Top 30 and Specialty Awards*Door prizes, 50/50 raffle, m
 usic and food*Judging: 10:00 am to 2:00 pm, awards at 3:30 pm*Registra
 tion: 9:00 am to 12:00 noon; $20.00 day of show*Proceeds go to Soldier
 s Angels of Georgia\n\n\n\n\n\n\n\nFor more information visit https://
 www.southeastwheelsevents.com/events/6th-annual-tara-mustang-club
DTSTART;TZID=Pacific/Midway:20151017T090000
DTEND;TZID=Pacific/Midway:20151017T160000
CATEGORIES:car-show, charity
LOCATION:Summit Racing Equipment
WEBSITE:http://www.peachstatechevelles.com
URL:http://www.peachstatechevelles.com
CONTACT:Richard 770-487-2122, Don 850-939-3870
ORGANIZER:Peach State Chevelles
ATTACH;FMTTYPE="image/jpeg":http://storage.ning.com/topology/rest/1.0/
 file/get/967594893?profile=original
ATTENDEE;ROLE=REQ-PARTICIPANT;PARTSTAT=ACCEPTED;RSVP=TRUE;CN="Jack Tho
 mas":https://www.southeastwheelsevents.com/profile/JackThomas
ATTENDEE;ROLE=REQ-PARTICIPANT;PARTSTAT=ACCEPTED;RSVP=TRUE;CN="Lee Holm
 an":https://www.southeastwheelsevents.com/profile/LeeHolman
ATTENDEE;ROLE=REQ-PARTICIPANT;PARTSTAT=ACCEPTED;RSVP=TRUE;CN="Tami Ram
 sey":https://www.southeastwheelsevents.com/profile/TamiRamsey
ATTENDEE;ROLE=REQ-PARTICIPANT;PARTSTAT=TENTATIVE;RSVP=TRUE;CN="Tommy M
 orris":https://www.southeastwheelsevents.com/profile/TommyMorris
ATTENDEE;ROLE=REQ-PARTICIPANT;PARTSTAT=TENTATIVE;RSVP=TRUE;CN="Jerry J
 ones":https://www.southeastwheelsevents.com/profile/JerryJOnes
END:VEVENT
END:VCALENDAR
