BEGIN:VCALENDAR
PRODID:NingEventWidget-v1
VERSION:2.0
METHOD:PUBLISH
BEGIN:VTIMEZONE
TZID:Pacific/Midway
X-LIC-LOCATION:Pacific/Midway
BEGIN:STANDARD
TZOFFSETFROM:-1100
TZOFFSETTO:-1100
TZNAME:SST
DTSTART:19700101T000000
END:STANDARD
END:VTIMEZONE
BEGIN:VEVENT
UID:5072275:Event:186328
DTSTAMP:20260422T055229Z
SUMMARY:7 Flags Speedway Reunion is Cancelled -Douglasville, GA
DESCRIPTION:7 Flags Speedway Reunion is Cancelled due to family illnes
 s. News will be posted as it is available.\n\nFor more information vis
 it https://www.southeastwheelsevents.com/events/7-flags-speedway-reuni
 on-is
DTSTART;TZID=Pacific/Midway:20110320T000000
DTEND;TZID=Pacific/Midway:20110322T235900
CATEGORIES:car-show, reunion
LOCATION:American Legion Post #145
WEBSITE:
URL:
CONTACT:
ORGANIZER:Susan Morgan
ATTACH;FMTTYPE="image/jpeg":
ATTENDEE;ROLE=REQ-PARTICIPANT;PARTSTAT=ACCEPTED;RSVP=TRUE;CN="Michael 
 Thies":https://www.southeastwheelsevents.com/profile/MichaelThies
END:VEVENT
END:VCALENDAR
