BEGIN:VCALENDAR
PRODID:NingEventWidget-v1
VERSION:2.0
METHOD:PUBLISH
BEGIN:VTIMEZONE
TZID:Pacific/Midway
X-LIC-LOCATION:Pacific/Midway
BEGIN:STANDARD
TZOFFSETFROM:-1100
TZOFFSETTO:-1100
TZNAME:SST
DTSTART:19700101T000000
END:STANDARD
END:VTIMEZONE
BEGIN:VEVENT
UID:5072275:Event:573768
DTSTAMP:20260421T212618Z
SUMMARY:Annual Calera Elks Lodge Car and Truck Lodge -Calera, AL
DESCRIPTION:Car and Truck Show Clasics, Open, Late models. Plaques for
  1st, 2nd and 3rd Place  Trophy for Elks Choice Goodie Bag for first 1
 0 Arrivals Coffee and Sweets at sign-up Vendors, Oldies DJ, Raffles, D
 oor Prizes and Food $20 first entry, $15 second entry.  Registration 8
  - 12:00 Vehicles arriving after 12:00 will not be judged.  Awards @ 2
 :00\n\nFor more information visit https://www.southeastwheelsevents.co
 m/events/7th-annual-calera-elks-lodge-car-and-truck-lodge
DTSTART;TZID=Pacific/Midway:20140927T080000
DTEND;TZID=Pacific/Midway:20140927T140000
CATEGORIES:fundraiser, for, benevolent, organization, "(", christmas, 
 kids, "vets)"
LOCATION:Calera Elks Lodge
WEBSITE:
URL:
CONTACT:205-668-0545 or Nancy 334391-1585
ORGANIZER:Calera Elks Lodge
ATTACH;FMTTYPE="image/jpeg":http://storage.ning.com/topology/rest/1.0/
 file/get/967626936?profile=original
ATTENDEE;ROLE=REQ-PARTICIPANT;PARTSTAT=ACCEPTED;RSVP=TRUE;CN="Chuck Aa
 ron":https://www.southeastwheelsevents.com/profile/ChuckAaron
ATTENDEE;ROLE=REQ-PARTICIPANT;PARTSTAT=ACCEPTED;RSVP=TRUE;CN="Jeri Gar
 rett":https://www.southeastwheelsevents.com/profile/JeriGarrett
END:VEVENT
END:VCALENDAR
