BEGIN:VCALENDAR
PRODID:NingEventWidget-v1
VERSION:2.0
METHOD:PUBLISH
BEGIN:VTIMEZONE
TZID:Pacific/Midway
X-LIC-LOCATION:Pacific/Midway
BEGIN:STANDARD
TZOFFSETFROM:-1100
TZOFFSETTO:-1100
TZNAME:SST
DTSTART:19700101T000000
END:STANDARD
END:VTIMEZONE
BEGIN:VEVENT
UID:5072275:Event:1180060
DTSTAMP:20260424T012326Z
SUMMARY:7th ANNUAL CAR SHOW & BBQ
DESCRIPTION:\n\nFor more information visit https://www.southeastwheels
 events.com/events/7th-annual-car-show-bbq
DTSTART;TZID=Pacific/Midway:20191116T100000
DTEND;TZID=Pacific/Midway:20191116T140000
CATEGORIES:church, fundraiser
LOCATION:HARMONY BAPTIST CHURCH
WEBSITE:
URL:
CONTACT:
ORGANIZER:
ATTACH;FMTTYPE="image/jpeg":https://storage.ning.com/topology/rest/1.0
 /file/get/3679830365?profile=original
ATTENDEE;ROLE=REQ-PARTICIPANT;PARTSTAT=TENTATIVE;RSVP=TRUE;CN="Robert 
 Gates":https://www.southeastwheelsevents.com/profile/RobertGates
ATTENDEE;ROLE=REQ-PARTICIPANT;PARTSTAT=TENTATIVE;RSVP=TRUE;CN="Jeffrey
  Rutherford":https://www.southeastwheelsevents.com/profile/JeffreyRuth
 erford866
END:VEVENT
END:VCALENDAR
