BEGIN:VCALENDAR
PRODID:NingEventWidget-v1
VERSION:2.0
METHOD:PUBLISH
BEGIN:VTIMEZONE
TZID:Pacific/Midway
X-LIC-LOCATION:Pacific/Midway
BEGIN:STANDARD
TZOFFSETFROM:-1100
TZOFFSETTO:-1100
TZNAME:SST
DTSTART:19700101T000000
END:STANDARD
END:VTIMEZONE
BEGIN:VEVENT
UID:5072275:Event:1009106
DTSTAMP:20260423T162548Z
SUMMARY:7th Annual Classic Car Show and Fall Festival  St Mtn GA
DESCRIPTION:Car Show Type: All Cars and Trucks Entry Fee: Donation of 
 any amount you would care to give Time of the show: 9:00 am till 3:00 
 pm - Trophies at 2 pm Location: 1405 Rockbridge Rd St, Mts GA 30087  
              United Methodist Church\n50'2 Musice and Food\nCo
 ntact Info: Lee Eldredge 770-564-0624 leebob866@comcast.net\n\nFor mo
 re information visit https://www.southeastwheelsevents.com/events/7th-
 annual-classic-car-show-and-fall-festival-st-mtn-ga
DTSTART;TZID=Pacific/Midway:20161001T090000
DTEND;TZID=Pacific/Midway:20161001T150000
CATEGORIES:church, fund, raiser
LOCATION:United Methodist Church
WEBSITE:https://goo.gl/maps/5WnUMNMhLi12
URL:https://goo.gl/maps/5WnUMNMhLi12
CONTACT:770-564-0624
ORGANIZER;CN="Steve Bracken":https://www.southeastwheelsevents.com/pro
 file/SteveBracken
ATTACH;FMTTYPE="image/jpeg":http://storage.ning.com/topology/rest/1.0/
 file/get/967713206?profile=original
ATTENDEE;ROLE=REQ-PARTICIPANT;PARTSTAT=ACCEPTED;RSVP=TRUE;CN="Steve Br
 acken":https://www.southeastwheelsevents.com/profile/SteveBracken
ATTENDEE;ROLE=REQ-PARTICIPANT;PARTSTAT=TENTATIVE;RSVP=TRUE;CN="Bill mu
 sarra":https://www.southeastwheelsevents.com/profile/billmusarra
END:VEVENT
END:VCALENDAR
