BEGIN:VCALENDAR
PRODID:NingEventWidget-v1
VERSION:2.0
METHOD:PUBLISH
BEGIN:VTIMEZONE
TZID:Pacific/Midway
X-LIC-LOCATION:Pacific/Midway
BEGIN:STANDARD
TZOFFSETFROM:-1100
TZOFFSETTO:-1100
TZNAME:SST
DTSTART:19700101T000000
END:STANDARD
END:VTIMEZONE
BEGIN:VEVENT
UID:5072275:Event:815242
DTSTAMP:20260423T134624Z
SUMMARY:Annual Classics in the Park Car Show -Mt Pleasant, TN
DESCRIPTION:\nAnnual Classics in the Park Car Show in Mt Pleasant TN\n
 Williams Spring Park Hwy 43 South 26 Classes, Drive through judging th
 is year, proceeds benefit local causes. Vendor Space and Swap Meet Spa
 ce available - Contact 931-446-1998 or email iamfox59@yahoo.com\n\n\nF
 or more information visit https://www.southeastwheelsevents.com/events
 /7th-annual-classics-in-the-park-car-show-mt-pleasant-tn
DTSTART;TZID=Pacific/Midway:20160806T080000
DTEND;TZID=Pacific/Midway:20160806T150000
CATEGORIES:car-show
LOCATION:Williams Spring Park
WEBSITE:http://www.classicsforacause.com/
URL:http://www.classicsforacause.com/
CONTACT:wayneegoins@gmail.com  Jr. Roberts 931-446-2385, Randy 931-446
 -1998
ORGANIZER:Classics For A Cause Car Club
ATTACH;FMTTYPE="image/jpeg":http://storage.ning.com/topology/rest/1.0/
 file/get/967668265?profile=original
ATTENDEE;ROLE=REQ-PARTICIPANT;PARTSTAT=ACCEPTED;RSVP=TRUE;CN="Chuck Aa
 ron":https://www.southeastwheelsevents.com/profile/ChuckAaron
END:VEVENT
END:VCALENDAR
