BEGIN:VCALENDAR
PRODID:NingEventWidget-v1
VERSION:2.0
METHOD:PUBLISH
BEGIN:VTIMEZONE
TZID:Pacific/Midway
X-LIC-LOCATION:Pacific/Midway
BEGIN:STANDARD
TZOFFSETFROM:-1100
TZOFFSETTO:-1100
TZNAME:SST
DTSTART:19700101T000000
END:STANDARD
END:VTIMEZONE
BEGIN:VEVENT
UID:5072275:Event:860194
DTSTAMP:20260422T224743Z
SUMMARY:Annual Cody Renfroe Rod Run -Crossville, AL
DESCRIPTION:Annual Cody Renfroe Rod Run “Vintage, Street Rods, Hot R
 ods, Motorcycles & Tractors” 4:00 P.M. – 8:00 P.M. Rain date: May 
 16th, 2015 HWY 68 CROSSVILLE CITY PARK, CROSSVILLE, ALABAMA  This car 
 show is in memory of Cody Renfroe, a Crossville Volunteer Firefighter.
  Who on 10-29-08 gave his life doing what he loved most “Fire Fighti
 ng.” Cody had a great love for old hot rods, and car shows. Please j
 oin us in honoring Cody and the Crossville Volunteer Fire Department. 
  $20 ENTRY FEE FOR “Vintage, Street Rods, Hot Rods, Motorcycles & Tr
 actors”  ADDMISSION IS FREE...  TROPHIES GREAT FOOD & KIDS ENTERTAIN
 MENT,DOOR PRIZES, MONEY TREE  CAR CLUB WITH MOST CARS PRESENT RECIEVES
  TROPHY  DONATIONS AND ALL MONEY RAISED TO BENEFIT CROSSVILLE FIRE DEP
 T.  CONTACT INFO: STANICE OR RICKEY GRAY: (256) 302-3637 / (256) 659-8
 352 KEVIN RENFROE: (256) 927-2404 / (256) 557-0879\r\n\n\nFor more inf
 ormation visit https://www.southeastwheelsevents.com/events/7th-annual
 -cody-renfroe-rod-run
DTSTART;TZID=Pacific/Midway:20220514T160000
DTEND;TZID=Pacific/Midway:20220514T200000
CATEGORIES:fundraiser, remembering, our, hero, car, show
LOCATION:Crossville, Alabama
WEBSITE:http://www.facebook.com/CodyRenfroeRodRunAlabama?ref=hl
URL:http://www.facebook.com/CodyRenfroeRodRunAlabama?ref=hl
CONTACT:(256) 557-0879
ORGANIZER:CR Rod Run
ATTACH;FMTTYPE="image/jpeg":http://storage.ning.com/topology/rest/1.0/
 file/get/967678133?profile=original
ATTENDEE;ROLE=REQ-PARTICIPANT;PARTSTAT=ACCEPTED;RSVP=TRUE;CN="dusty da
 rnell":https://www.southeastwheelsevents.com/profile/dustydarnell
END:VEVENT
END:VCALENDAR
