BEGIN:VCALENDAR
PRODID:NingEventWidget-v1
VERSION:2.0
METHOD:PUBLISH
BEGIN:VTIMEZONE
TZID:Pacific/Midway
X-LIC-LOCATION:Pacific/Midway
BEGIN:STANDARD
TZOFFSETFROM:-1100
TZOFFSETTO:-1100
TZNAME:SST
DTSTART:19700101T000000
END:STANDARD
END:VTIMEZONE
BEGIN:VEVENT
UID:5072275:Event:1223372
DTSTAMP:20260424T024837Z
SUMMARY:7th ANNUAL ELI'S CRUISE FOR A CURE - AUBURN, GA
DESCRIPTION:\n\nFor more information visit https://www.southeastwheels
 events.com/events/7th-annual-eli-s-cruise-for-a-cure-auburn-ga
DTSTART;TZID=Pacific/Midway:20210327T100000
DTEND;TZID=Pacific/Midway:20210327T140000
CATEGORIES:benefit, cruise-in, car, show
LOCATION:INGLES SUPERMARKET
WEBSITE:
URL:
CONTACT:Derrick 678-702-7339
ORGANIZER:Eli's Cure
ATTACH;FMTTYPE="image/jpeg":
ATTENDEE;ROLE=REQ-PARTICIPANT;PARTSTAT=TENTATIVE;RSVP=TRUE;CN="Jeffrey
  Rutherford":https://www.southeastwheelsevents.com/profile/JeffreyRuth
 erford866
END:VEVENT
END:VCALENDAR
