BEGIN:VCALENDAR
PRODID:NingEventWidget-v1
VERSION:2.0
METHOD:PUBLISH
BEGIN:VTIMEZONE
TZID:Pacific/Midway
X-LIC-LOCATION:Pacific/Midway
BEGIN:STANDARD
TZOFFSETFROM:-1100
TZOFFSETTO:-1100
TZNAME:SST
DTSTART:19700101T000000
END:STANDARD
END:VTIMEZONE
BEGIN:VEVENT
UID:5072275:Event:491647
DTSTAMP:20260424T110938Z
SUMMARY:7th Annual Nash Spring Bash, Lawrenceville, GA
DESCRIPTION:Located at Nash Chevrolet 630 Senic Hwy, Lawrenceville, GA
  from 9AM-5PM, Open to all makes, classes based upon decades, separate
  classes for stock and modified cars, $1,000 in door prizes, free hot 
 dog lunch.  Awards for Best GM, Best Ford, Best Mopar, Best Orphan, a
 nd Best Import. Entry fee of $20.00, profits go to local charities, fr
 ee admission to spectators.  For more information call Johnny at 770-
 598-4077 or Fred at 770-461-5006.\n\nFor more information visit https:
 //www.southeastwheelsevents.com/events/7th-annual-nash-spring-bash-law
 renceville-ga
DTSTART;TZID=Pacific/Midway:20120505T090000
DTEND;TZID=Pacific/Midway:20120505T170000
CATEGORIES:charity, car, show
LOCATION:Nash Chevrolet
WEBSITE:
URL:
CONTACT:770-598-4077 or 770-461-5006
ORGANIZER;CN="Michael Brewer":https://www.southeastwheelsevents.com/pr
 ofile/MichaelBrewer
ATTACH;FMTTYPE="image/jpeg":
ATTENDEE;ROLE=REQ-PARTICIPANT;PARTSTAT=ACCEPTED;RSVP=TRUE;CN="Michael 
 Brewer":https://www.southeastwheelsevents.com/profile/MichaelBrewer
ATTENDEE;ROLE=REQ-PARTICIPANT;PARTSTAT=TENTATIVE;RSVP=TRUE;CN="Bob Har
 tman":https://www.southeastwheelsevents.com/profile/BobHartman
ATTENDEE;ROLE=REQ-PARTICIPANT;PARTSTAT=TENTATIVE;RSVP=TRUE;CN="Lenny  
    Major":https://www.southeastwheelsevents.com/profile/LennyMajor
END:VEVENT
END:VCALENDAR
