BEGIN:VCALENDAR
PRODID:NingEventWidget-v1
VERSION:2.0
METHOD:PUBLISH
BEGIN:VTIMEZONE
TZID:Pacific/Midway
X-LIC-LOCATION:Pacific/Midway
BEGIN:STANDARD
TZOFFSETFROM:-1100
TZOFFSETTO:-1100
TZNAME:SST
DTSTART:19700101T000000
END:STANDARD
END:VTIMEZONE
BEGIN:VEVENT
UID:5072275:Event:1176067
DTSTAMP:20260419T035859Z
SUMMARY:7th ANNUAL ROCKABILLA-QUE
DESCRIPTION:\r\nSat, Nov 9th is the return of the 7th Annual Classic C
 ar & Vintage Bike Show as part of this year's Rockabillaque in Charl
 eston, SC! Over 300 Vintage, Classic, Hot Rod, Antique, Import, Rat Ro
 d Cars & Bikes turn out for the show (pre-1980)!! Pre-Register to be i
 n the Show for only $15 ($20 day of show). This year only pre-register
 ed Cars & Bikes can check-in / park 8 to 9am. After 9am all other vehi
 cles can register and park.\r\nLet us know your coming, invite your fr
 iends and get more info here: www.facebook.com/events/187995355546105
 9/\r\n\n\nFor more information visit https://www.southeastwheelsevents
 .com/events/7th-annual-rockabilla-que
DTSTART;TZID=Pacific/Midway:20191109T090000
DTEND;TZID=Pacific/Midway:20191109T180000
CATEGORIES:classic, car, "&amp", vintage, bike, show
LOCATION:Southern Roots Park Circle
WEBSITE:
URL:
CONTACT:
ORGANIZER:
ATTACH;FMTTYPE="image/jpeg":https://storage.ning.com/topology/rest/1.0
 /file/get/3447325164?profile=original
ATTENDEE;ROLE=REQ-PARTICIPANT;PARTSTAT=TENTATIVE;RSVP=TRUE;CN="Jeffrey
  Rutherford":https://www.southeastwheelsevents.com/profile/JeffreyRuth
 erford866
END:VEVENT
END:VCALENDAR
