BEGIN:VCALENDAR
PRODID:NingEventWidget-v1
VERSION:2.0
METHOD:PUBLISH
BEGIN:VTIMEZONE
TZID:Pacific/Midway
X-LIC-LOCATION:Pacific/Midway
BEGIN:STANDARD
TZOFFSETFROM:-1100
TZOFFSETTO:-1100
TZNAME:SST
DTSTART:19700101T000000
END:STANDARD
END:VTIMEZONE
BEGIN:VEVENT
UID:5072275:Event:483235
DTSTAMP:20260424T110912Z
SUMMARY:7th Annual Spring Bash at Nash Chevrolet -Lawrenceville, GA
DESCRIPTION:Registration 9:00 AM - Noon.  $20.00 show entry fee, free
  admission to spectators.  Awards around 5:00PM.  Open car show - al
 l makes welcome!  1900-1949, 1950-1959, 1960-1969, 1970-1979, 1980 & 
 Newer.  Best GM - Best Ford - Best Mopar - Best Orphan - Best Import 
 - Club Choice - Dealer Choice - Best of Show.  Separate classes for s
 tock and modified vehicles.  $1,000 in cash prizes.  Donations made 
 to local charities.  No Alcoholic beverages allowed.  For more infor
 mation please contact Johnny 770-598-4077 or Fred 770-461-5006.\n\nFor
  more information visit https://www.southeastwheelsevents.com/events/7
 th-annual-spring-bash-at-nash-chevrolet
DTSTART;TZID=Pacific/Midway:20120505T000000
DTEND;TZID=Pacific/Midway:20120505T235900
CATEGORIES:open, car, show
LOCATION:Nash Chevrolet
WEBSITE:http://www.nashchevy.com
URL:http://www.nashchevy.com
CONTACT:770-598-4077 or 770-461-5006
ORGANIZER:Peach State Chevy Club
ATTACH;FMTTYPE="image/jpeg":
ATTENDEE;ROLE=REQ-PARTICIPANT;PARTSTAT=TENTATIVE;RSVP=TRUE;CN="Lenny  
    Major":https://www.southeastwheelsevents.com/profile/LennyMajor
ATTENDEE;ROLE=REQ-PARTICIPANT;PARTSTAT=TENTATIVE;RSVP=TRUE;CN="Bruce J
 ones":https://www.southeastwheelsevents.com/profile/BruceJones
END:VEVENT
END:VCALENDAR
