BEGIN:VCALENDAR
PRODID:NingEventWidget-v1
VERSION:2.0
METHOD:PUBLISH
BEGIN:VTIMEZONE
TZID:Pacific/Midway
X-LIC-LOCATION:Pacific/Midway
BEGIN:STANDARD
TZOFFSETFROM:-1100
TZOFFSETTO:-1100
TZNAME:SST
DTSTART:19700101T000000
END:STANDARD
END:VTIMEZONE
BEGIN:VEVENT
UID:5072275:Event:1034417
DTSTAMP:20260420T151346Z
SUMMARY:$800 Sportsman / $600 A-Hobby / $400 Pony
DESCRIPTION:** Admission prices subject to change at any time without 
 notice. CHECK EVENT FOR SPECIAL PRICING!\nADMISSION PRICES VARY UPON E
 ACH EVENT\nPLEASE SEE OUR FACEBOOK PAGE FOR MORE DETAILS\n\nFor more i
 nformation visit https://www.southeastwheelsevents.com/events/800-spor
 tsman-600-a-hobby-400-pony
DTSTART;TZID=Pacific/Midway:20170325T180000
DTEND;TZID=Pacific/Midway:20170325T220000
CATEGORIES:race
LOCATION:North Georgia Speedway
WEBSITE:http://northgaspeedway.net/
URL:http://northgaspeedway.net/
CONTACT:706-695-3313 (Track/Race Day phone)
ORGANIZER:Chip Burke
ATTACH;FMTTYPE="image/jpeg":http://storage.ning.com/topology/rest/1.0/
 file/get/967732822?profile=original
ATTENDEE;ROLE=REQ-PARTICIPANT;PARTSTAT=ACCEPTED;RSVP=TRUE;CN="Christop
 her Gosney":https://www.southeastwheelsevents.com/profile/ChristopherG
 osney
END:VEVENT
END:VCALENDAR
