BEGIN:VCALENDAR
PRODID:NingEventWidget-v1
VERSION:2.0
METHOD:PUBLISH
BEGIN:VTIMEZONE
TZID:Pacific/Midway
X-LIC-LOCATION:Pacific/Midway
BEGIN:STANDARD
TZOFFSETFROM:-1100
TZOFFSETTO:-1100
TZNAME:SST
DTSTART:19700101T000000
END:STANDARD
END:VTIMEZONE
BEGIN:VEVENT
UID:5072275:Event:876028
DTSTAMP:20260422T074027Z
SUMMARY:8th Annual Conyers Car Show and Taste of Conyers -Conyers, GA
DESCRIPTION:A family fun day full of awesome cars, trucks and specialt
 y vehicles.  All makes, models and conditions welcome. A judged event
  with trophies awarded.  Set up begins at 10am and judging begins at 
 11am.  Live music on our Depot Stage featuring blues, country, 60's a
 nd 70's hits and classic soft rock.  Over 40 food vendors from around
  town will be on hand to satisfy any appetite and a children's fun are
 a will keep the whole family happy.  Proceeds benefit Project ReNeWal
 , a non-profit domestic abuse intervention program.  Contact us for m
 ore details or go to our FaceBook page for pictures of past shows and 
 events.\n\nFor more information visit https://www.southeastwheelsevent
 s.com/events/8th-annual-conyers-car-show-and-taste-of-conyers
DTSTART;TZID=Pacific/Midway:20150502T110000
DTEND;TZID=Pacific/Midway:20150502T160000
CATEGORIES:car, show, taste, of, conyers, fundraiser
LOCATION:Conyers Georgia Depot
WEBSITE:http://mainstreet.conyersga.com/
URL:http://mainstreet.conyersga.com/
CONTACT:(770) 354-5861
ORGANIZER;CN="RedLine Event Productions":https://www.southeastwheelsev
 ents.com/profile/RedLineEventProductions
ATTACH;FMTTYPE="image/jpeg":http://storage.ning.com/topology/rest/1.0/
 file/get/967682191?profile=original
ATTENDEE;ROLE=REQ-PARTICIPANT;PARTSTAT=ACCEPTED;RSVP=TRUE;CN="Robert K
 . Chitty":https://www.southeastwheelsevents.com/profile/RobertKChitty
ATTENDEE;ROLE=REQ-PARTICIPANT;PARTSTAT=ACCEPTED;RSVP=TRUE;CN="Nancy E.
  Baker":https://www.southeastwheelsevents.com/profile/NancyEBaker
ATTENDEE;ROLE=REQ-PARTICIPANT;PARTSTAT=ACCEPTED;RSVP=TRUE;CN="Chuck Aa
 ron":https://www.southeastwheelsevents.com/profile/ChuckAaron
ATTENDEE;ROLE=REQ-PARTICIPANT;PARTSTAT=ACCEPTED;RSVP=TRUE;CN="Bill Dav
 is":https://www.southeastwheelsevents.com/profile/BillDavis
ATTENDEE;ROLE=REQ-PARTICIPANT;PARTSTAT=ACCEPTED;RSVP=TRUE;CN="RedLine 
 Event Productions":https://www.southeastwheelsevents.com/profile/RedLi
 neEventProductions
ATTENDEE;ROLE=REQ-PARTICIPANT;PARTSTAT=ACCEPTED;RSVP=TRUE;CN="Jeffrey 
 Jackson":https://www.southeastwheelsevents.com/profile/JeffreyJackson
ATTENDEE;ROLE=REQ-PARTICIPANT;PARTSTAT=ACCEPTED;RSVP=TRUE;CN="John Bak
 er":https://www.southeastwheelsevents.com/profile/JohnJBaker
ATTENDEE;ROLE=REQ-PARTICIPANT;PARTSTAT=TENTATIVE;RSVP=TRUE;CN=Jeff:htt
 ps://www.southeastwheelsevents.com/profile/Jeff
ATTENDEE;ROLE=REQ-PARTICIPANT;PARTSTAT=TENTATIVE;RSVP=TRUE;CN="Bill mu
 sarra":https://www.southeastwheelsevents.com/profile/billmusarra
END:VEVENT
END:VCALENDAR
