BEGIN:VCALENDAR
PRODID:NingEventWidget-v1
VERSION:2.0
METHOD:PUBLISH
BEGIN:VTIMEZONE
TZID:Pacific/Midway
X-LIC-LOCATION:Pacific/Midway
BEGIN:STANDARD
TZOFFSETFROM:-1100
TZOFFSETTO:-1100
TZNAME:SST
DTSTART:19700101T000000
END:STANDARD
END:VTIMEZONE
BEGIN:VEVENT
UID:5072275:Event:691749
DTSTAMP:20260422T005309Z
SUMMARY:Country Road Cruisers Car Show-Madison, GA
DESCRIPTION:Car Show in Downtown Madison, GA.  Awards and trophies, 
 professionally judged in several classes.\r\n\r\n \n\nFor more inform
 ation visit https://www.southeastwheelsevents.com/events/8th-annual-co
 untry-road-cruisers-car-show-madison-ga
DTSTART;TZID=Pacific/Midway:20170916T090000
DTEND;TZID=Pacific/Midway:20170916T163000
CATEGORIES:car, show
LOCATION:Town Park
WEBSITE:https://sites.google.com/site/countryroadcruisers/
URL:https://sites.google.com/site/countryroadcruisers/
CONTACT:706-474-1575 geraldpenn1942@hotmail.com
ORGANIZER:Country Road Cruisers
ATTACH;FMTTYPE="image/jpeg":http://storage.ning.com/topology/rest/1.0/
 file/get/967643779?profile=original
ATTENDEE;ROLE=REQ-PARTICIPANT;PARTSTAT=ACCEPTED;RSVP=TRUE;CN="Chuck Aa
 ron":https://www.southeastwheelsevents.com/profile/ChuckAaron886
ATTENDEE;ROLE=REQ-PARTICIPANT;PARTSTAT=ACCEPTED;RSVP=TRUE;CN="Speed Po
 wer Passion":https://www.southeastwheelsevents.com/profile/SpeedPowerP
 assion
ATTENDEE;ROLE=REQ-PARTICIPANT;PARTSTAT=ACCEPTED;RSVP=TRUE;CN="Chuck Aa
 ron":https://www.southeastwheelsevents.com/profile/ChuckAaron
ATTENDEE;ROLE=REQ-PARTICIPANT;PARTSTAT=ACCEPTED;RSVP=TRUE;CN="Bill Dav
 is":https://www.southeastwheelsevents.com/profile/BillDavis
ATTENDEE;ROLE=REQ-PARTICIPANT;PARTSTAT=TENTATIVE;RSVP=TRUE;CN="Michael
  Thies":https://www.southeastwheelsevents.com/profile/MichaelThies
ATTENDEE;ROLE=REQ-PARTICIPANT;PARTSTAT=TENTATIVE;RSVP=TRUE;CN="Ernie R
 ossi":https://www.southeastwheelsevents.com/profile/ErnieRossi
ATTENDEE;ROLE=REQ-PARTICIPANT;PARTSTAT=TENTATIVE;RSVP=TRUE;CN="John Ba
 ker":https://www.southeastwheelsevents.com/profile/JohnJBaker
END:VEVENT
END:VCALENDAR
