BEGIN:VCALENDAR
PRODID:NingEventWidget-v1
VERSION:2.0
METHOD:PUBLISH
BEGIN:VTIMEZONE
TZID:Pacific/Midway
X-LIC-LOCATION:Pacific/Midway
BEGIN:STANDARD
TZOFFSETFROM:-1100
TZOFFSETTO:-1100
TZNAME:SST
DTSTART:19700101T000000
END:STANDARD
END:VTIMEZONE
BEGIN:VEVENT
UID:5072275:Event:1118364
DTSTAMP:20260424T045809Z
SUMMARY:8th Annual Holiday Open House Toys for Tots Benefit - Charlott
 e, Nc
DESCRIPTION:8th Annual Holiday Open House Toys for Tots Benefit at Str
 eetside Classics 5400 West WT Harris Blvd.\n\nFor more information vis
 it https://www.southeastwheelsevents.com/events/8th-annual-holiday-ope
 n-house-toys-for-tots-benefit-charlotte-nc
DTSTART;TZID=Pacific/Midway:20181201T110000
DTEND;TZID=Pacific/Midway:20181201T150000
CATEGORIES:car, show, cruise, in
LOCATION:Streetside Classics,
WEBSITE:http://streetsideclassics.com
URL:http://streetsideclassics.com
CONTACT:704-598-2130
ORGANIZER:Ellen Kelly
ATTACH;FMTTYPE="image/jpeg":http://storage.ning.com/topology/rest/1.0/
 file/get/967807824?profile=original
ATTENDEE;ROLE=REQ-PARTICIPANT;PARTSTAT=ACCEPTED;RSVP=TRUE;CN="Anthony 
 Hopkins":https://www.southeastwheelsevents.com/profile/AnthonyHopkins
END:VEVENT
END:VCALENDAR
