BEGIN:VCALENDAR
PRODID:NingEventWidget-v1
VERSION:2.0
METHOD:PUBLISH
BEGIN:VTIMEZONE
TZID:Pacific/Midway
X-LIC-LOCATION:Pacific/Midway
BEGIN:STANDARD
TZOFFSETFROM:-1100
TZOFFSETTO:-1100
TZNAME:SST
DTSTART:19700101T000000
END:STANDARD
END:VTIMEZONE
BEGIN:VEVENT
UID:5072275:Event:802690
DTSTAMP:20260423T082119Z
SUMMARY:JDRF Charity Car Show & Swap Meet -Clayton, GA
DESCRIPTION:Join us August 30th in Clayton, GA at Clayton City Hall fo
 r the 8th Annual JDRF Charity Car Show. Also featuring for the 1st tim
 e in 2014, a swap meet! Car show entry is $15 dollars pre-registered, 
 $20 dollars day of show. Swap meet entry is $25. \nShow runs from 9 a
 m to 3 pm. We will have door prizes, 50-50 drawings, live music, food 
 & drinks and much more.\n\nThis years show will feature an expanded sh
 ow class with over 100 awards! \nIn the past seven years we have rais
 ed over $20,000 dollars for JDRF, lets keep that total rolling in 2014
 ! Come out and support!\n\n\n\nFor more information visit https://www.
 southeastwheelsevents.com/events/8th-annual-jdrf-charity-car-show-swap
 -meet
DTSTART;TZID=Pacific/Midway:20140830T090000
DTEND;TZID=Pacific/Midway:20140830T150000
CATEGORIES:charity, car, show
LOCATION:Clayton City Hall
WEBSITE:http://jdrfgang.wordpress.com/2013-jdrf-gang-event-calendar/
URL:http://jdrfgang.wordpress.com/2013-jdrf-gang-event-calendar/
CONTACT:706-782-3490
ORGANIZER;CN="Jeff Southard":https://www.southeastwheelsevents.com/pro
 file/JeffSouthard111
ATTACH;FMTTYPE="image/jpeg":http://storage.ning.com/topology/rest/1.0/
 file/get/967665181?profile=original
ATTENDEE;ROLE=REQ-PARTICIPANT;PARTSTAT=ACCEPTED;RSVP=TRUE;CN="Jeff Sou
 thard":https://www.southeastwheelsevents.com/profile/JeffSouthard111
END:VEVENT
END:VCALENDAR
