BEGIN:VCALENDAR
PRODID:NingEventWidget-v1
VERSION:2.0
METHOD:PUBLISH
BEGIN:VTIMEZONE
TZID:Pacific/Midway
X-LIC-LOCATION:Pacific/Midway
BEGIN:STANDARD
TZOFFSETFROM:-1100
TZOFFSETTO:-1100
TZNAME:SST
DTSTART:19700101T000000
END:STANDARD
END:VTIMEZONE
BEGIN:VEVENT
UID:5072275:Event:318419
DTSTAMP:20260423T101443Z
SUMMARY:8th Annual KewlRides / USMC Toys for Tots Toy Drive / Vehicle 
 Show -Alpharetta, GA
DESCRIPTION:Ladies and Gentlemen, we once again; KewlRides.org will ho
 st the Annual Toys For Tots Toy Drive / Car Show (seventh year running
 ) for the United States Marine Corps' 2011 Toy for Tots campaign. See 
 details below. \n\nKewlRides.org presents the 7th Annual Toy Drive / C
 ar Show (all vehicles are welcome)\n\n\nfor \nThe United States Marine
 s Corps\n2011 TOYS FOR TOTS\nCampaign\n\nDecember 10th, 2011\n\nShow T
 ime: 11:00 am- 4:00 pm\n\nLocation: Miller's Ale House\n10750 Davis Dr
 \nAlpharetta, GA, 30009-4775\n(off 400 exit 8 Man sell Road)\n \nAll v
 ehicles are welcome to register, what we want to see is a full trailer
  of toys; as one of our members says \"let’s put a major dent in the
  USMC Toys For Tots 2011 Atlanta goal\". We know from years past that 
 the car community can come together for this one event knowing their w
 ork and efforts are bringing big broad smiles to children that might n
 ot otherwise have anything for Christmas. There will be trophies, raff
 les, silent auction and fun in general. All this is to generate more t
 oys for the kids.\n\nTo register ( Toys4Tots@kewlrides.org ) your Baby
 , (remember the registration fee will be a New Unwrapped Toy or Toys b
 rought to the Toy Drive / Car Show) please provide the following infor
 mation for registration:\n\nFull Name - Jiminy Cricket (your name of c
 ourse)\n\nYear of Car – 1999 (the year of your car)\n\nModel – Con
 vertible, Coupe, Sedan (the model)\n\nMake - (Ferrari. Camaro, Corvett
 e, Dodge, Firebird, Porsche, Trans Am, Viper)\n\nClub or Group affilia
 tion – Ferrari Chat, GALXC, Muscle Car Evolution, KewlRides, 6Speedo
 nline – Porsche, (your club or group)\n\nForum name – Lucky Dog (y
 our forum name, Corvette Forum, Ferrari Chat, GALXC, or any of the oth
 ers)\n\nSend this information to the \n\n\nToys4Tots@kewlrides.org\n\n
 \n\n\nRemember to register ( Toys4Tots@kewlrides.org ) early, this way
  we will have you in the database correctly and have your dash display
  ready the morning of the 10th of December.\n\nFor more information vi
 sit https://www.southeastwheelsevents.com/events/8th-annual-kewlrides-
 usmc-toys
DTSTART;TZID=Pacific/Midway:20111210T110000
DTEND;TZID=Pacific/Midway:20111210T160000
CATEGORIES:charity, toys, for, tots, drive, "/", all, vehicles, show
LOCATION:Miller's Ale House
WEBSITE:http://WWW. KewlRides.org
URL:http://WWW. KewlRides.org
CONTACT:404-550-4430
ORGANIZER;CN="Mark O Holte":https://www.southeastwheelsevents.com/prof
 ile/MarkOHolte
ATTACH;FMTTYPE="image/jpeg":
ATTENDEE;ROLE=REQ-PARTICIPANT;PARTSTAT=ACCEPTED;RSVP=TRUE;CN="Jerry Jo
 nes":https://www.southeastwheelsevents.com/profile/JerryJOnes
ATTENDEE;ROLE=REQ-PARTICIPANT;PARTSTAT=ACCEPTED;RSVP=TRUE;CN="Jim Shep
 herd":https://www.southeastwheelsevents.com/profile/JimShepherd
ATTENDEE;ROLE=REQ-PARTICIPANT;PARTSTAT=ACCEPTED;RSVP=TRUE;CN="Dustin R
 andall":https://www.southeastwheelsevents.com/profile/DustinRandall
ATTENDEE;ROLE=REQ-PARTICIPANT;PARTSTAT=ACCEPTED;RSVP=TRUE;CN="Dan Blac
 k":https://www.southeastwheelsevents.com/profile/DanBlack
ATTENDEE;ROLE=REQ-PARTICIPANT;PARTSTAT=ACCEPTED;RSVP=TRUE;CN="Mark O H
 olte":https://www.southeastwheelsevents.com/profile/MarkOHolte
ATTENDEE;ROLE=REQ-PARTICIPANT;PARTSTAT=TENTATIVE;RSVP=TRUE;CN="JP Brad
 y":https://www.southeastwheelsevents.com/profile/jpbrady
END:VEVENT
END:VCALENDAR
