BEGIN:VCALENDAR
PRODID:NingEventWidget-v1
VERSION:2.0
METHOD:PUBLISH
BEGIN:VTIMEZONE
TZID:Pacific/Midway
X-LIC-LOCATION:Pacific/Midway
BEGIN:STANDARD
TZOFFSETFROM:-1100
TZOFFSETTO:-1100
TZNAME:SST
DTSTART:19700101T000000
END:STANDARD
END:VTIMEZONE
BEGIN:VEVENT
UID:5072275:Event:54179
DTSTAMP:20260421T034149Z
SUMMARY:LE Sigom Memorial Car & Truck Show - Newton, NC
DESCRIPTION:Car and Truck Show (Motorcycles Welcomed) Registration $15
 .00 per (Cash Only) Judging By Class Food Games 50/50 Drawing Vote for
  Best of Show 25 cent a Vote\n\nFor more information visit https://www
 .southeastwheelsevents.com/events/8th-annual-le-sigom-memorial
DTSTART;TZID=Pacific/Midway:20140816T080000
DTEND;TZID=Pacific/Midway:20140816T130000
CATEGORIES:church, fundraiser
LOCATION:St. James Lutheran Church
WEBSITE:http://Google Map
URL:http://Google Map
CONTACT:Robert Avery Crouch 828-464-1953
ORGANIZER:St. James Lutheran Church
ATTACH;FMTTYPE="image/jpeg":http://storage.ning.com/topology/rest/1.0/
 file/get/967577887?profile=original
ATTENDEE;ROLE=REQ-PARTICIPANT;PARTSTAT=ACCEPTED;RSVP=TRUE;CN="Robert A
 very Crouch":https://www.southeastwheelsevents.com/profile/RobertAvery
 Crouch
END:VEVENT
END:VCALENDAR
