BEGIN:VCALENDAR
PRODID:NingEventWidget-v1
VERSION:2.0
METHOD:PUBLISH
BEGIN:VTIMEZONE
TZID:Pacific/Midway
X-LIC-LOCATION:Pacific/Midway
BEGIN:STANDARD
TZOFFSETFROM:-1100
TZOFFSETTO:-1100
TZNAME:SST
DTSTART:19700101T000000
END:STANDARD
END:VTIMEZONE
BEGIN:VEVENT
UID:5072275:Event:1227473
DTSTAMP:20260419T053932Z
SUMMARY:8th Annual Rockabillaque Classic Car and Vintage Motorcycle Sh
 ow
DESCRIPTION:The return of the 8th Annual Rockabillaque Charleston Clas
 sic Car & Vintage Motorcycle Show on Saturday, November 13th, 2021 in 
 the historic neighborhood of Park Circle in North Charleston, SC. A be
 nefit event for Valiant Animal Rescue. The biggest event of its kind i
 n the Carolinas.\nThe Car & Bike Show is 11am to 6pm with vehicles che
 cking in and parking between 8am and 10am. Registration and check will
  be in the same spot as in 2019 at the Parking Lot across from Barrel 
 House Spirits at 827 Virginia Ave, North Charleston, SC 29405. Pre-reg
 istration is $20 and day of is $25 for your vehicle to be in the show.
  There are no refunds for the Car & Bike Show Registration. The Show i
 s presented by Parks Auto Parts, American Biker, Ryders Law Group and 
 Elliot Remington.\nThe Festival also includes live music featuring roc
 kabilly, honky-tonk, psychobilly bands from all over the map on over t
 hree outdoor music stages, contests including pin-up, beard & mustache
 , tattoo, and more. Plus all the Park Circle businesses including bars
 , restaurants, breweries, and more. The festival now has a spin-off ev
 en in Florida at the Seminole Casino in Immokalee, FL which returns fo
 r its 2nd year on Sat, Feb 19 & Sun, Feb 20th, 2022.\n\nFor more infor
 mation visit https://www.southeastwheelsevents.com/events/8th-annual-r
 ockabillaque-classic-car-amp-vintage-motorcycle-show
DTSTART;TZID=Pacific/Midway:20211113T110000
DTEND;TZID=Pacific/Midway:20211113T180000
CATEGORIES:car, and, motorcycle, show
LOCATION:Southern Roots Smokehouse
WEBSITE:https://www.rockabillaque.com/
URL:https://www.rockabillaque.com/
CONTACT:3108012727
ORGANIZER;CN="Simon Cantlon":https://www.southeastwheelsevents.com/pro
 file/SimonCantlon163
ATTACH;FMTTYPE="image/jpeg":https://storage.ning.com/topology/rest/1.0
 /file/get/9398270867?profile=original
ATTENDEE;ROLE=REQ-PARTICIPANT;PARTSTAT=ACCEPTED;RSVP=TRUE;CN="Simon Ca
 ntlon":https://www.southeastwheelsevents.com/profile/SimonCantlon163
END:VEVENT
END:VCALENDAR
