BEGIN:VCALENDAR
PRODID:NingEventWidget-v1
VERSION:2.0
METHOD:PUBLISH
BEGIN:VTIMEZONE
TZID:Pacific/Midway
X-LIC-LOCATION:Pacific/Midway
BEGIN:STANDARD
TZOFFSETFROM:-1100
TZOFFSETTO:-1100
TZNAME:SST
DTSTART:19700101T000000
END:STANDARD
END:VTIMEZONE
BEGIN:VEVENT
UID:5072275:Event:1172187
DTSTAMP:20260419T053932Z
SUMMARY:8th ANNUALFALL OPE#N CAR, TRUCK, & MOTORCYCLE SHOW, Plains, GA
DESCRIPTION:November 9th (Saturday): Plains Better Home Town and Plain
 s Inn & Friends of Jimmy Carter, NHS presents the 6th Annual Fall Open
  Car, Truck & Motorcycle Show. Main Street, Downtown Plains, Georgia.R
 AIN or SHINE, Music, Vendors, Food & Drink. An OPEN SHOW with classes:
 Car Stock, Car Modified, Trucks, Street Rods & Motorcycles.Club Partic
 ipation Winner $100 (10 member minimum).Seven Special Awards and Presi
 dent \"Jimmy\" Carter's Choice. President Carter is expected to be the
 re Saturday to make his choice.REGISTRATION 8 A.M. - 11 A.M. Judging b
 egins at 11 A.M.Awards at around 2 P.M. Pre-registration $20.00. Day o
 f show $25.00.For more info or to register online go to www.premiumcar
 shows.com\n\nFor more information visit https://www.southeastwheelseve
 nts.com/events/8th-annualfall-ope-n-car-truck-motorcycle-show-plains-g
 a
DTSTART;TZID=Pacific/Midway:20191109T080000
DTEND;TZID=Pacific/Midway:20191109T140000
CATEGORIES:car, show
LOCATION:DOWNTOWN PLAINS
WEBSITE:
URL:
CONTACT:
ORGANIZER:
ATTACH;FMTTYPE="image/jpeg":https://storage.ning.com/topology/rest/1.0
 /file/get/3172105238?profile=original
ATTENDEE;ROLE=REQ-PARTICIPANT;PARTSTAT=ACCEPTED;RSVP=TRUE;CN="Jeffrey 
 Rutherford":https://www.southeastwheelsevents.com/profile/JeffreyRuthe
 rford866
END:VEVENT
END:VCALENDAR
