BEGIN:VCALENDAR
PRODID:NingEventWidget-v1
VERSION:2.0
METHOD:PUBLISH
BEGIN:VTIMEZONE
TZID:Pacific/Midway
X-LIC-LOCATION:Pacific/Midway
BEGIN:STANDARD
TZOFFSETFROM:-1100
TZOFFSETTO:-1100
TZNAME:SST
DTSTART:19700101T000000
END:STANDARD
END:VTIMEZONE
BEGIN:VEVENT
UID:5072275:Event:1101453
DTSTAMP:20260423T182720Z
SUMMARY:9th Annual Bethlehem Day and Classic Car Cruise In - Hickory, 
 Nc
DESCRIPTION:9th Annual Bethlehem Day and Classic Car Cruise In at Mt. 
 Bethel United Methodist church, 9042 NC Hwy 127.\n\nFor more informati
 on visit https://www.southeastwheelsevents.com/events/9th-annual-bethl
 ehem-day-and-classic-car-cruise-in-hickory-nc
DTSTART;TZID=Pacific/Midway:20180915T100000
DTEND;TZID=Pacific/Midway:20180915T160000
CATEGORIES:car, show, cruise, in
LOCATION:Mt. Bethel United Methodist Church,
WEBSITE:http://bethlemcda.org
URL:http://bethlemcda.org
CONTACT:828-234-6690
ORGANIZER:
ATTACH;FMTTYPE="image/jpeg":http://storage.ning.com/topology/rest/1.0/
 file/get/967798767?profile=original
ATTENDEE;ROLE=REQ-PARTICIPANT;PARTSTAT=ACCEPTED;RSVP=TRUE;CN="Anthony 
 Hopkins":https://www.southeastwheelsevents.com/profile/AnthonyHopkins
END:VEVENT
END:VCALENDAR
