BEGIN:VCALENDAR
PRODID:NingEventWidget-v1
VERSION:2.0
METHOD:PUBLISH
BEGIN:VTIMEZONE
TZID:Pacific/Midway
X-LIC-LOCATION:Pacific/Midway
BEGIN:STANDARD
TZOFFSETFROM:-1100
TZOFFSETTO:-1100
TZNAME:SST
DTSTART:19700101T000000
END:STANDARD
END:VTIMEZONE
BEGIN:VEVENT
UID:5072275:Event:532972
DTSTAMP:20260423T142607Z
SUMMARY:9th Annual Flowery Branch Car Show and Chili Cook Off Plus the
  5th  Annual Bugs at the Branch VW Show
DESCRIPTION:Biggest Little Car Show and Chili Cookoff in Georgia!\nCla
 ssic Car Show , All Makes & Models Welcome, Current Year to Model T\nV
 olkswagen Show, Water Cooled & Air Cooled Models Welcome,\nCurrent Yea
 r & Older\n$20 Entry Fee for Car Show Contestants\n$100 Each for Best 
 in Show, Classic and VW\n$100 for Best Tasting Chili 1st Place\n$50 fo
 r Best Tasting Chili JR Division\nGames and Prizes for ALL Contestants
 \nCome join us for a truly unique Car Show & Chili Cookoff experience!
 \nFUN FOR THE WHOLE FAMILY!\nClassic Car/Chili Info contact Steve Souc
 ie at\n770-967-2934 or ssoucie1@charter.net\nVW Contestant Info contac
 t Chris & Jennifer Ring at\n678-492-5628 or boltsdragenvwclub@yahoo.co
 m\nVendor and Sponsorship Info contact Charlotte Cornett\nat 678-698-1
 387 or charlottecornett@att.net\nSPONSORED BY CITY OF FLOWERY BRANCH &
  BOLTSDRAGEN VW CLUB\n\nFor more information visit https://www.southea
 stwheelsevents.com/events/9th-annual-flowery-branch-car-show-and-chili
 -cook-off-plus-the-1
DTSTART;TZID=Pacific/Midway:20120908T100000
DTEND;TZID=Pacific/Midway:20120908T160000
CATEGORIES:classic, and, vw, car, show, chili, cook, off
LOCATION:Main St Flowery Branch GA
WEBSITE:http://www.flowerybranchga.org
URL:http://www.flowerybranchga.org
CONTACT:770-967-2934
ORGANIZER;CN="Steve Soucie":https://www.southeastwheelsevents.com/prof
 ile/SteveSoucie
ATTACH;FMTTYPE="image/jpeg":
ATTENDEE;ROLE=REQ-PARTICIPANT;PARTSTAT=ACCEPTED;RSVP=TRUE;CN="Steve So
 ucie":https://www.southeastwheelsevents.com/profile/SteveSoucie
END:VEVENT
END:VCALENDAR
