BEGIN:VCALENDAR
PRODID:NingEventWidget-v1
VERSION:2.0
METHOD:PUBLISH
BEGIN:VTIMEZONE
TZID:Pacific/Midway
X-LIC-LOCATION:Pacific/Midway
BEGIN:STANDARD
TZOFFSETFROM:-1100
TZOFFSETTO:-1100
TZNAME:SST
DTSTART:19700101T000000
END:STANDARD
END:VTIMEZONE
BEGIN:VEVENT
UID:5072275:Event:1103098
DTSTAMP:20260421T035104Z
SUMMARY:9th Annual Shirley Looney Memorial Car Show - Mobile, Al
DESCRIPTION:9th Annual Shirley Looney Memorial Car Show at Dauphin Way
  Baptist Church, 3661 Dauphin Street.\n\nFor more information visit ht
 tps://www.southeastwheelsevents.com/events/9th-annual-shirley-looney-m
 emorial-car-show-mobile-al
DTSTART;TZID=Pacific/Midway:20181027T080000
DTEND;TZID=Pacific/Midway:20181027T150000
CATEGORIES:car, show, cruise, in
LOCATION:Dauphin Way Baptist Church,
WEBSITE:http://dwbc.org
URL:http://dwbc.org
CONTACT:(251) 342-3456
ORGANIZER:
ATTACH;FMTTYPE="image/jpeg":http://storage.ning.com/topology/rest/1.0/
 file/get/967802329?profile=original
ATTENDEE;ROLE=REQ-PARTICIPANT;PARTSTAT=ACCEPTED;RSVP=TRUE;CN="Anthony 
 Hopkins":https://www.southeastwheelsevents.com/profile/AnthonyHopkins
END:VEVENT
END:VCALENDAR
