BEGIN:VCALENDAR
PRODID:NingEventWidget-v1
VERSION:2.0
METHOD:PUBLISH
BEGIN:VTIMEZONE
TZID:Pacific/Midway
X-LIC-LOCATION:Pacific/Midway
BEGIN:STANDARD
TZOFFSETFROM:-1100
TZOFFSETTO:-1100
TZNAME:SST
DTSTART:19700101T000000
END:STANDARD
END:VTIMEZONE
BEGIN:VEVENT
UID:5072275:Event:535543
DTSTAMP:20260419T223519Z
SUMMARY:9th Annual Southeastshowdown -Williamston, SC
DESCRIPTION:We want to invite everyone back out for the 9th annual Sou
 theastshowdown July 28 and 29, 2012 held at the Anderson Motor Speedwa
 y in Williamston, SC  Vendors include FAT MAN Fabrications, PalmettoRo
 dWorx, Fastech chassis, Drop Em, KIK, Palmetto Moonshine, Hooters and 
 more !!!!!  Magazine Coverage, Club Awards, Soap Box Derby\n \nBe sur
 e to find us on facebook\n \n$20.00 pre registration before July 15, 
 $30.00 after July 15\n  www.southeastshowdown.com\n\nFor more informa
 tion visit https://www.southeastwheelsevents.com/events/9th-annual-sou
 theastshowdown
DTSTART;TZID=Pacific/Midway:20130726T000000
DTEND;TZID=Pacific/Midway:20130728T235900
CATEGORIES:car, show
LOCATION:Anderson Motor Speedway, Williamston, SC
WEBSITE:http://www.southeastshowdown.com
URL:http://www.southeastshowdown.com
CONTACT:864-230-5576
ORGANIZER;CN="Logan Fulmer":https://www.southeastwheelsevents.com/prof
 ile/LoganFulmer
ATTACH;FMTTYPE="image/jpeg":http://storage.ning.com/topology/rest/1.0/
 file/get/967619101?profile=original
ATTENDEE;ROLE=REQ-PARTICIPANT;PARTSTAT=ACCEPTED;RSVP=TRUE;CN="Logan Fu
 lmer":https://www.southeastwheelsevents.com/profile/LoganFulmer
ATTENDEE;ROLE=REQ-PARTICIPANT;PARTSTAT=ACCEPTED;RSVP=TRUE;CN="Wesley B
 anks":https://www.southeastwheelsevents.com/profile/WesleyBanks
END:VEVENT
END:VCALENDAR
