BEGIN:VCALENDAR
PRODID:NingEventWidget-v1
VERSION:2.0
METHOD:PUBLISH
BEGIN:VTIMEZONE
TZID:Pacific/Midway
X-LIC-LOCATION:Pacific/Midway
BEGIN:STANDARD
TZOFFSETFROM:-1100
TZOFFSETTO:-1100
TZNAME:SST
DTSTART:19700101T000000
END:STANDARD
END:VTIMEZONE
BEGIN:VEVENT
UID:5072275:Event:1180339
DTSTAMP:20260424T012919Z
SUMMARY:9th ANNUAL TOYS FOR TOTS BENEFIT CAR SHOW
DESCRIPTION:\n\nFor more information visit https://www.southeastwheels
 events.com/events/9th-annual-toys-for-tots-benefit-car-show
DTSTART;TZID=Pacific/Midway:20191116T080000
DTEND;TZID=Pacific/Midway:20191116T130000
CATEGORIES:toys, for, tots, benefit, show
LOCATION:Hilbish Ford
WEBSITE:
URL:
CONTACT:704-938-3131
ORGANIZER:Mike
ATTACH;FMTTYPE="image/jpeg":https://storage.ning.com/topology/rest/1.0
 /file/get/3703855597?profile=original
ATTENDEE;ROLE=REQ-PARTICIPANT;PARTSTAT=TENTATIVE;RSVP=TRUE;CN="Jeffrey
  Rutherford":https://www.southeastwheelsevents.com/profile/JeffreyRuth
 erford866
END:VEVENT
END:VCALENDAR
