BEGIN:VCALENDAR
PRODID:NingEventWidget-v1
VERSION:2.0
METHOD:PUBLISH
BEGIN:VTIMEZONE
TZID:Pacific/Midway
X-LIC-LOCATION:Pacific/Midway
BEGIN:STANDARD
TZOFFSETFROM:-1100
TZOFFSETTO:-1100
TZNAME:SST
DTSTART:19700101T000000
END:STANDARD
END:VTIMEZONE
BEGIN:VEVENT
UID:5072275:Event:524149
DTSTAMP:20260423T155816Z
SUMMARY:Annual Tri-Cities Corvette Show -Johnson City, TN
DESCRIPTION:Annual Tri-Cities Corvette Show -Johnson City, TN\nTri-Cit
 ies Corvette Club\n\nFor more information visit https://www.southeastw
 heelsevents.com/events/9th-annual-tri-cities-corvette-show-johnson-cit
 y-tn
DTSTART;TZID=Pacific/Midway:20160611T150000
DTEND;TZID=Pacific/Midway:20160611T190000
CATEGORIES:car-show
LOCATION:Champion Chevrolet
WEBSITE:http://www.tricitiescorvetteclub.com
URL:http://www.tricitiescorvetteclub.com
CONTACT:Cletus Greene 423-218-0317
ORGANIZER:Tri-Cities Corvette Club
ATTACH;FMTTYPE="image/jpeg":http://storage.ning.com/topology/rest/1.0/
 file/get/967613805?profile=original
ATTENDEE;ROLE=REQ-PARTICIPANT;PARTSTAT=ACCEPTED;RSVP=TRUE;CN="Jack Tho
 mas":https://www.southeastwheelsevents.com/profile/JackThomas
END:VEVENT
END:VCALENDAR
