BEGIN:VCALENDAR
PRODID:NingEventWidget-v1
VERSION:2.0
METHOD:PUBLISH
BEGIN:VTIMEZONE
TZID:Pacific/Midway
X-LIC-LOCATION:Pacific/Midway
BEGIN:STANDARD
TZOFFSETFROM:-1100
TZOFFSETTO:-1100
TZNAME:SST
DTSTART:19700101T000000
END:STANDARD
END:VTIMEZONE
BEGIN:VEVENT
UID:5072275:Event:1031524
DTSTAMP:20260423T160419Z
SUMMARY:A.B.A.T.E. of Georgia- District 13 Monthly Meeting
DESCRIPTION:A.B.A.T.E. of Georgia - District 13 Monthly Meeting will b
 e held at The Henry T. Elrod Welcome Center, Ashburn, GA. Meeting star
 ts at 2.00pm and ends at 3.00pm.\n\nFor more information visit https:/
 /www.southeastwheelsevents.com/events/a-b-a-t-e-of-florida-lake-county
 -chapter-monthly-meeting-sun-feb
DTSTART;TZID=Pacific/Midway:20170205T140000
DTEND;TZID=Pacific/Midway:20170205T150000
CATEGORIES:motorcycles, "clubs/shows/cruises"
LOCATION:The Henry T. Elrod Welcome Center
WEBSITE:http://www.abatega.org/events.htm
URL:http://www.abatega.org/events.htm
CONTACT:
ORGANIZER:A.B.A.T.E. of Georgia
ATTACH;FMTTYPE="image/jpeg":
ATTENDEE;ROLE=REQ-PARTICIPANT;PARTSTAT=ACCEPTED;RSVP=TRUE;CN="Christop
 her Gosney":https://www.southeastwheelsevents.com/profile/ChristopherG
 osney
END:VEVENT
END:VCALENDAR
