BEGIN:VCALENDAR
PRODID:NingEventWidget-v1
VERSION:2.0
METHOD:PUBLISH
BEGIN:VTIMEZONE
TZID:Pacific/Midway
X-LIC-LOCATION:Pacific/Midway
BEGIN:STANDARD
TZOFFSETFROM:-1100
TZOFFSETTO:-1100
TZNAME:SST
DTSTART:19700101T000000
END:STANDARD
END:VTIMEZONE
BEGIN:VEVENT
UID:5072275:Event:1031521
DTSTAMP:20260423T160226Z
SUMMARY:A.B.A.T.E. of Florida- Lake County Chapter Monthly Meeting
DESCRIPTION:A.B.A.T.E. of Florida - Lake County Chapter Monthly Meetin
 g will be held at Fraternal Order of Eagles, Okahumpka, FL. Meeting st
 arts at 12.00pm. End time may change.\n\nFor more information visit ht
 tps://www.southeastwheelsevents.com/events/a-b-a-t-e-of-florida-lake-c
 ounty-chapter-monthly-meeting
DTSTART;TZID=Pacific/Midway:20170205T120000
DTEND;TZID=Pacific/Midway:20170205T140000
CATEGORIES:motorcycles, "clubs/shows/cruises"
LOCATION:Fraternal Order of Eagles
WEBSITE:http://lake.abateflorida.com/
URL:http://lake.abateflorida.com/
CONTACT:
ORGANIZER:A.B.A.T.E. of Florida - Lake County Chapter
ATTACH;FMTTYPE="image/jpeg":
ATTENDEE;ROLE=REQ-PARTICIPANT;PARTSTAT=ACCEPTED;RSVP=TRUE;CN="Christop
 her Gosney":https://www.southeastwheelsevents.com/profile/ChristopherG
 osney
END:VEVENT
END:VCALENDAR
