BEGIN:VCALENDAR
PRODID:NingEventWidget-v1
VERSION:2.0
METHOD:PUBLISH
BEGIN:VTIMEZONE
TZID:Pacific/Midway
X-LIC-LOCATION:Pacific/Midway
BEGIN:STANDARD
TZOFFSETFROM:-1100
TZOFFSETTO:-1100
TZNAME:SST
DTSTART:19700101T000000
END:STANDARD
END:VTIMEZONE
BEGIN:VEVENT
UID:5072275:Event:1030259
DTSTAMP:20260423T162425Z
SUMMARY:A.B.A.T.E. of Georgia - District 2 Monthly Meeting
DESCRIPTION:A.B.A.T.E. of Georgia - District 2 Monthly Meeting will be
  held at JW Reed's, Cleveland, GA. Meetings are open to the public and
  invite all motorcycle enthusiasts or people who just like hanging aro
 und bikes and bikers to meetings. Meet new friends and perhaps see old
  friends and learn more about how American Bikers Active Toward Educat
 ion fights for Right to Ride. Meeting starts at 2.00pm and ends at 3.3
 0pm.\n\nFor more information visit https://www.southeastwheelsevents.c
 om/events/a-b-a-t-e-of-georgia-district-2-monthly-meeting-1
DTSTART;TZID=Pacific/Midway:20170205T140000
DTEND;TZID=Pacific/Midway:20170205T153000
CATEGORIES:motorcycles, "clubs/shows/cruises"
LOCATION:JW Reed's
WEBSITE:http://www.abatega.org/events.htm
URL:http://www.abatega.org/events.htm
CONTACT:
ORGANIZER:A.B.A.T.E. of Georgia
ATTACH;FMTTYPE="image/jpeg":
ATTENDEE;ROLE=REQ-PARTICIPANT;PARTSTAT=ACCEPTED;RSVP=TRUE;CN="Christop
 her Gosney":https://www.southeastwheelsevents.com/profile/ChristopherG
 osney
END:VEVENT
END:VCALENDAR
