BEGIN:VCALENDAR
PRODID:NingEventWidget-v1
VERSION:2.0
METHOD:PUBLISH
BEGIN:VTIMEZONE
TZID:Pacific/Midway
X-LIC-LOCATION:Pacific/Midway
BEGIN:STANDARD
TZOFFSETFROM:-1100
TZOFFSETTO:-1100
TZNAME:SST
DTSTART:19700101T000000
END:STANDARD
END:VTIMEZONE
BEGIN:VEVENT
UID:5072275:Event:1027905
DTSTAMP:20260420T230527Z
SUMMARY:A.B.A.T.E. of Mississippi - Vicksburg Chapter Meeting
DESCRIPTION:A.B.A.T.E. of Mississippi - Vicksburg Chapter Meeting will
  be held at Beechwood Restaurant & Lounge, Vicksburg, MS. Meeting star
 ts at 2.00pm. End time may change.\n\nFor more information visit https
 ://www.southeastwheelsevents.com/events/a-b-a-t-e-of-mississippi-vicks
 burg-chapter-meeting-1
DTSTART;TZID=Pacific/Midway:20170219T140000
DTEND;TZID=Pacific/Midway:20170219T160000
CATEGORIES:motorcycles, "clubs/shows/cruises"
LOCATION:Beechwood Restaurant & Lounge
WEBSITE:http://www.msabate.org/calendar/month.php
URL:http://www.msabate.org/calendar/month.php
CONTACT:
ORGANIZER:A.B.A.T.E. of Mississippi - Vicksburg Chapter
ATTACH;FMTTYPE="image/jpeg":http://storage.ning.com/topology/rest/1.0/
 file/get/967726415?profile=original
ATTENDEE;ROLE=REQ-PARTICIPANT;PARTSTAT=ACCEPTED;RSVP=TRUE;CN="Chris go
 sney":https://www.southeastwheelsevents.com/profile/Chrisgosney
END:VEVENT
END:VCALENDAR
