BEGIN:VCALENDAR
PRODID:NingEventWidget-v1
VERSION:2.0
METHOD:PUBLISH
BEGIN:VTIMEZONE
TZID:Pacific/Midway
X-LIC-LOCATION:Pacific/Midway
BEGIN:STANDARD
TZOFFSETFROM:-1100
TZOFFSETTO:-1100
TZNAME:SST
DTSTART:19700101T000000
END:STANDARD
END:VTIMEZONE
BEGIN:VEVENT
UID:5072275:Event:512008
DTSTAMP:20260423T231011Z
SUMMARY:A Day With the Lions Fourth Annual Open Car Show
DESCRIPTION:\n\nFor more information visit https://www.southeastwheels
 events.com/events/a-day-with-the-lions-fourth-annual-open-car-show
DTSTART;TZID=Pacific/Midway:20120519T090000
DTEND;TZID=Pacific/Midway:20120519T140000
CATEGORIES:fundraier, for, district, 12n, lions
LOCATION:Tennessee School for the Deaf
WEBSITE:
URL:
CONTACT:865-925-3334 or 865-556-9091
ORGANIZER;CN="Jim McFarland":https://www.southeastwheelsevents.com/pro
 file/JimMcFarland
ATTACH;FMTTYPE="image/jpeg":
ATTENDEE;ROLE=REQ-PARTICIPANT;PARTSTAT=ACCEPTED;RSVP=TRUE;CN="Snitch A
 dams":https://www.southeastwheelsevents.com/profile/SnitchAdams
ATTENDEE;ROLE=REQ-PARTICIPANT;PARTSTAT=ACCEPTED;RSVP=TRUE;CN="Jim McFa
 rland":https://www.southeastwheelsevents.com/profile/JimMcFarland
END:VEVENT
END:VCALENDAR
