BEGIN:VCALENDAR
PRODID:NingEventWidget-v1
VERSION:2.0
METHOD:PUBLISH
BEGIN:VTIMEZONE
TZID:Pacific/Midway
X-LIC-LOCATION:Pacific/Midway
BEGIN:STANDARD
TZOFFSETFROM:-1100
TZOFFSETTO:-1100
TZNAME:SST
DTSTART:19700101T000000
END:STANDARD
END:VTIMEZONE
BEGIN:VEVENT
UID:5072275:Event:985291
DTSTAMP:20260421T101953Z
SUMMARY:A TRIP DOWN MEMORY LANE CAR SHOW 4TH..ANNUAL
DESCRIPTION:A TRIP DOWN MEMORY LANE\nA FREE CAR SHOW.JUBE 17TH.  1++4
  P.M.\nFREE REFRESHMENTS\nMUSIC,AWARDS & MORE.TAIN OR SHINE.\nTHIS SHO
 W SO THE DENIORS CAN SEE VEHICLES THEY HAD.THEY CHOOSE THERE FAVORITES
  FOR THE WINNERS.YES IT IS ON FRIDAY.A;WAYS THE FRIDAY BEFORE FATHERS 
 DAY,\nSAVANNAH COURT HAS CHANGED NAME TO INSIGNA\n27 BELK ROAD\nNEWNAN
 ,GA.30263\nMORE INFO >MARY DAVENPORT\n4702413132   rdcoupe@gmail.com
 \n\nFor more information visit https://www.southeastwheelsevents.com/e
 vents/a-trip-down-memory-lane-car-show-4th-annual
DTSTART;TZID=Pacific/Midway:20160617T130000
DTEND;TZID=Pacific/Midway:20160617T160000
CATEGORIES:free
LOCATION:INSIGNA SENIOR LIVING CENTER
WEBSITE:
URL:
CONTACT:470-241-3132
ORGANIZER;CN="mary davenport":https://www.southeastwheelsevents.com/pr
 ofile/marydavenport191
ATTACH;FMTTYPE="image/jpeg":
ATTENDEE;ROLE=REQ-PARTICIPANT;PARTSTAT=ACCEPTED;RSVP=TRUE;CN="mary dav
 enport":https://www.southeastwheelsevents.com/profile/marydavenport191
END:VEVENT
END:VCALENDAR
